Workbook

Sheet 当社支払条件
A1: 当 社 支 払 条 件
A4: 当社の支払条件は、原則として『半金半手(手形分電子記録債権)』『月末締・翌月末払』となっております。
A5: 詳細は下記の様になっておりますので、ご請求の際には各事項を必ずお守り下さい。
C7: 支 払 方 法 | K7: ①８０万円未満（税込）：全額現金（銀行振込）
K8: ８０万円以上（税込）：半金半手（手形分電子記録債権、支払サイト９５日）
K10: ②全額現金支払いをご希望の場合
K11: 請求額が８０万円以上（税込）・・・手形金額分の１％を控除
L12: 【例】請求額 | S12: ９００,０００円（手形金額４５０,０００円）
S13: ４５０,０００円×１％＝４,５００円控除
K15: ※振込手数料、でんさい発行手数料は貴社負担となりますので、ご了承ください。
C17: 賦金（労働保険）控除
K18: 建設工事現場におきましては、元請業者が全ての下請業者の労災補償を
K19: することが労働基準法で義務付けられております。
K20: その労働保険料として請求金額（税込）の0.2％を控除させて頂きます。
C22: 請 求 時 指 定 事 項
E23: 1 | F23: . | G23: 当社指定請求書で請求のこと
G24: 弊社ホームページよりＰＣ入力用の請求書（Excel形式）がダウンロード出来ますので
G25: 下記よりダウンロードしてご使用下さい。
J26: https://www.sanei-prefab.co.jp/download/
G27: ※入力見本がございますのでご確認の上、作成をお願いいたします。
G29: ＰＣ入力用の請求書（Excel形式）の作成が難しい場合は、手書き用請求書をダウンロード
G30: してご使用ください。
G31: 手書き用請求書をダウンロードできない場合は、手書き用請求書の原紙をお送りしますので
G32: 営業所までご連絡ください。
E33: 2 | F33: ． | G33: 請求書締日 | N33: 毎月末日
E34: 3 | F34: ． | G34: 請求書必着日 | N34: 翌月３日（休日の場合は翌営業日）
N35: ※必着日を過ぎて届いた場合は処理の都合上、次月請求扱いとなります。
N36: ※決算の都合上、12月末締分は必着日を過ぎた場合お支払い致しかねます。
E37: 4 | F37: ． | G37: 支払日 | N37: 翌月末日 | S37: （午前１０時～午後５時） | AC37: 土日･祝祭日の場合は前日になります。
E38: 5 | F38: ． | G38: 工事完了月の翌月も請求書が提出されない場合は、お支払い致しかねます。
E39: 6 | F39: ． | G39: 請求書は該当する営業所に送付して下さい。
G40: 総支払に関しては本社へお問い合わせ下さい。
B45: 本社 | I45: 〒 | J45: 336 | L45: - | M45: 0022 | P45: さいたま市南区白幡５－１６－８ ３Ｆ | AH45: ☎ | AJ45: 048 865 4111
AH46: FAX | AJ46: 865 4811
B47: 川越営業所 | I47: 〒 | J47: 350 | L47: - | M47: 1124 | P47: 川越市新宿町３－１７－３３ | AH47: ☎ | AJ47: 049 246 4111
AH48: FAX | AJ48: 240 2744
B49: 浦和営業所 | I49: 〒 | J49: 336 | L49: - | M49: 0022 | P49: さいたま市南区白幡５－１６－８ ２Ｆ | AH49: ☎ | AJ49: 048 865 4511
AH50: FAX | AJ50: 865 4911
B51: 千葉営業所 | I51: 〒 | J51: 262 | L51: - | M51: 0033 | P51: 千葉市花見川区幕張本郷１－１１－２６ | AH51: ☎ | AJ51: 043 272 0700
P52: リビエール本郷２０４号 | AH52: FAX | AJ52: 272 0704
...

Sheet 請求総括表
U1: =IF($U$6="","■■■■■■■■■■■■■■■","") -> ■■■■■■■■■■■■■■■
U2: 年 月 日
H3: 請求総括表
T4: 【販売用】(請求者控）
O6: 請求者 | R6: 登録番号：
O7: 住所
J8: 御中
O9: 会社名
A11: 川越 | B11: 浦和 | C11: 千葉 | D11: 相模原 | E11: 茨城 | F11: 立川 | G11: 横浜 | H11: 東京 | K11: 本社 | O11: ＴＥＬ
O12: ＦＡＸ
A14: 下記の通りご請求申し上げます。
A16: No. | B16: 受注番号 | F16: 消費税10％分 | L16: 消費税 8％分 | R16: 非課税分 | U16: 摘要
F17: 小計 | I17: 消費税 | L17: 小計 | O17: 消費税 | R17: 小計
A18: 1 | B18: =納品・請求書_1!$J$7 -> 0 | F18: =納品・請求書_1!$R$42 -> 0 | I18: =納品・請求書_1!$Z$42 -> 0 | L18: =納品・請求書_1!$R$43 -> 0 | O18: =納品・請求書_1!$Z$43 -> 0 | R18: =納品・請求書_1!$R$44 -> 0
A19: 2 | B19: =納品・請求書_2!$J$7 -> 0 | F19: =納品・請求書_2!$R$42 -> 0 | I19: =納品・請求書_2!$Z$42 -> 0 | L19: =納品・請求書_2!$R$43 -> 0 | O19: =納品・請求書_2!$Z$43 -> 0 | R19: =納品・請求書_2!$R$44 -> 0
A20: 3 | B20: =納品・請求書_3!$J$7 -> 0 | F20: =納品・請求書_3!$R$42 -> 0 | I20: =納品・請求書_3!$Z$42 -> 0 | L20: =納品・請求書_3!$R$43 -> 0 | O20: =納品・請求書_3!$Z$43 -> 0 | R20: =納品・請求書_3!$R$44 -> 0
A21: 4 | B21: =納品・請求書_4!$J$7 -> 0 | F21: =納品・請求書_4!$R$42 -> 0 | I21: =納品・請求書_4!$Z$42 -> 0 | L21: =納品・請求書_4!$R$43 -> 0 | O21: =納品・請求書_4!$Z$43 -> 0 | R21: =納品・請求書_4!$R$44 -> 0
A22: 5 | B22: =納品・請求書_5!$J$7 -> 0 | F22: =納品・請求書_5!$R$42 -> 0 | I22: =納品・請求書_5!$Z$42 -> 0 | L22: =納品・請求書_5!$R$43 -> 0 | O22: =納品・請求書_5!$Z$43 -> 0 | R22: =納品・請求書_5!$R$44 -> 0
A23: 6 | B23: =納品・請求書_6!$J$7 -> 0 | F23: =納品・請求書_6!$R$42 -> 0 | I23: =納品・請求書_6!$Z$42 -> 0 | L23: =納品・請求書_6!$R$43 -> 0 | O23: =納品・請求書_6!$Z$43 -> 0 | R23: =納品・請求書_6!$R$44 -> 0
A24: 7 | B24: =納品・請求書_7!$J$7 -> 0 | F24: =納品・請求書_7!$R$42 -> 0 | I24: =納品・請求書_7!$Z$42 -> 0 | L24: =納品・請求書_7!$R$43 -> 0 | O24: =納品・請求書_7!$Z$43 -> 0 | R24: =納品・請求書_7!$R$44 -> 0
A25: 8 | B25: =納品・請求書_8!$J$7 -> 0 | F25: =納品・請求書_8!$R$42 -> 0 | I25: =納品・請求書_8!$Z$42 -> 0 | L25: =納品・請求書_8!$R$43 -> 0 | O25: =納品・請求書_8!$Z$43 -> 0 | R25: =納品・請求書_8!$R$44 -> 0
A26: 9 | B26: =納品・請求書_9!$J$7 -> 0 | F26: =納品・請求書_9!$R$42 -> 0 | I26: =納品・請求書_9!$Z$42 -> 0 | L26: =納品・請求書_9!$R$43 -> 0 | O26: =納品・請求書_9!$Z$43 -> 0 | R26: =納品・請求書_9!$R$44 -> 0
A27: 10 | B27: =納品・請求書_10!$J$7 -> 0 | F27: =納品・請求書_10!$R$42 -> 0 | I27: =納品・請求書_10!$Z$42 -> 0 | L27: =納品・請求書_10!$R$43 -> 0 | O27: =納品・請求書_10!$Z$43 -> 0 | R27: =納品・請求書_10!$R$44 -> 0
A28: 請求金額 計 | F28: =SUM($F$18:$H$27) -> 0 | I28: =SUM($I$18:$K$27) -> 0 | L28: =SUM($L$18:$N$27) -> 0 | O28: =SUM($O$18:$Q$27) -> 0 | R28: =SUM($R$18:$T$27) -> 0 | U28: =SUM($F$28:$T$28) -> 0
A30: 備考
U32: 総括表 | W32: 計 算 | Y32: 締 月
B33: 請求時指定事項
B34: ① | C34: 締日 | G34: 毎月末日
B35: ② | C35: 必着日 | G35: 翌月３日（休日の場合は翌営業日）
G36: ※必着日を過ぎて届いた場合は処理の都合上、次月請求扱いとなります。
G37: ※１２月決算月の為、未請求の場合にはお支払い致しかねます。
B38: ③ | C38: 支払日 | G38: 翌月末日 | J38: （午前１０時～午後５時）
B39: ④ | C39: 工事完了月の翌月も請求総括表および納品・請求書が提出されない場合は、お支払い致しかねます。
B40: ⑤ | C40: 請求総括表および納品・請求書は、該当する営業所に送付して下さい。
P42: 総支払に関してのお問合せ
P43: 本社 | S43: さいたま市南区白幡5-16-8 3F
P44: 電話番号 | S44: 048-865-4111
U45: =$U$1 -> ■■■■■■■■■■■■■■■
U46: =$U$2 -> 年 月 日
H47: 請求総括表
...

Sheet 納品・請求書_1
X1: =請求総括表!$U$1 -> ■■■■■■■■■■■■■■■
I2: 納品・請求書 | X2: =請求総括表!$U$2 -> 年 月 日
I3: 【販売用】 | Q3: (請求者控) | X3: No. | Y3: 1
A5: 株式会社 | F5: 御中 | O5: 請求者 | Q5: 登録番号： | T5: =請求総括表!$U$6 -> 0
A6: --- 営業所を選択してください。 --- | O6: 住所 | Q6: =請求総括表!$R$7 -> 0
A7: 担当者 | G7: 受注番号
A8: 客先名 | O8: 会社名 | Q8: =請求総括表!$R$9 -> 0
A9: 工事先名
A10: 工事場所 | O10: ＴＥＬ | Q10: =ASC(請求総括表!$R$11) | W10: ＦＡＸ | Y10: =ASC(請求総括表!$R$12)
A12: 月/日 | B12: 工事内容 | Q12: 数量 | S12: 単位 | U12: 税率 | W12: 単価 | Z12: 金額(税抜)
A42: 備考 | M42: 税率10% | P42: 小計 | R42: =SUMIFS($Z$13:$Z$40,$U$13:$U$40,"10%") -> 0 | W42: 消費税
M43: 税率 8% | P43: 小計 | R43: =SUMIFS($Z$13:$Z$40,$U$13:$U$40,"8%") -> 0 | W43: 消費税
M44: 非課税 | P44: 小計 | R44: =SUMIFS($Z$13:$Z$40,$U$13:$U$40,"非課税") -> 0
M46: 請求金額（税込） | S46: =SUM($R$42,$Z$42,$R$43,$Z$43,$R$44) -> 0 | AA46: 決裁
X49: =$X$1 -> ■■■■■■■■■■■■■■■
I50: 納品・請求書 | X50: =$X$2 -> 年 月 日
I51: 【販売用】 | Q51: (サンエイ送付用) | X51: No. | Y51: =$Y$3 -> 1
A53: 株式会社 | F53: 御中 | O53: 請求者 | Q53: 登録番号： | T53: =$T$5 -> 0
A54: =$A$6 -> --- 営業所を選択してください。 --- | O54: 住所 | Q54: =$Q$6 -> 0
A55: 担当者 | C55: =$C$7 -> 0 | G55: 受注番号 | J55: =$J$7 -> 0
A56: 客先名 | C56: =$C$8 -> 0 | O56: 会社名 | Q56: =$Q$8 -> 0
A57: 工事先名 | C57: =$C$9 -> 0
A58: 工事場所 | C58: =$C$10 -> 0 | O58: ＴＥＬ | Q58: =$Q$10 | W58: ＦＡＸ | Y58: =$Y$10
A60: 月/日 | B60: 工事内容 | Q60: 数量 | S60: 単位 | U60: 税率 | W60: 単価 | Z60: 金額(税抜)
A61: =$A$13 -> 0 | B61: =$B$13 -> 0 | Q61: =$Q$13 -> 0 | S61: =$S$13 -> 0 | U61: =$U$13 -> 0 | W61: =$W$13 -> 0 | Z61: =$Z$13 -> 0
A62: =$A$14 -> 0 | B62: =$B$14 -> 0 | Q62: =$Q$14 -> 0 | S62: =$S$14 -> 0 | U62: =$U$14 -> 0 | W62: =$W$14 -> 0 | Z62: =$Z$14 -> 0
A63: =$A$15 -> 0 | B63: =$B$15 -> 0 | Q63: =$Q$15 -> 0 | S63: =$S$15 -> 0 | U63: =$U$15 -> 0 | W63: =$W$15 -> 0 | Z63: =$Z$15 -> 0
A64: =$A$16 -> 0 | B64: =$B$16 -> 0 | Q64: =$Q$16 -> 0 | S64: =$S$16 -> 0 | U64: =$U$16 -> 0 | W64: =$W$16 -> 0 | Z64: =$Z$16 -> 0
A65: =$A$17 -> 0 | B65: =$B$17 -> 0 | Q65: =$Q$17 -> 0 | S65: =$S$17 -> 0 | U65: =$U$17 -> 0 | W65: =$W$17 -> 0 | Z65: =$Z$17 -> 0
A66: =$A$18 -> 0 | B66: =$B$18 -> 0 | Q66: =$Q$18 -> 0 | S66: =$S$18 -> 0 | U66: =$U$18 -> 0 | W66: =$W$18 -> 0 | Z66: =$Z$18 -> 0
A67: =$A$19 -> 0 | B67: =$B$19 -> 0 | Q67: =$Q$19 -> 0 | S67: =$S$19 -> 0 | U67: =$U$19 -> 0 | W67: =$W$19 -> 0 | Z67: =$Z$19 -> 0
A68: =$A$20 -> 0 | B68: =$B$20 -> 0 | Q68: =$Q$20 -> 0 | S68: =$S$20 -> 0 | U68: =$U$20 -> 0 | W68: =$W$20 -> 0 | Z68: =$Z$20 -> 0
A69: =$A$21 -> 0 | B69: =$B$21 -> 0 | Q69: =$Q$21 -> 0 | S69: =$S$21 -> 0 | U69: =$U$21 -> 0 | W69: =$W$21 -> 0 | Z69: =$Z$21 -> 0
A70: =$A$22 -> 0 | B70: =$B$22 -> 0 | Q70: =$Q$22 -> 0 | S70: =$S$22 -> 0 | U70: =$U$22 -> 0 | W70: =$W$22 -> 0 | Z70: =$Z$22 -> 0
A71: =$A$23 -> 0 | B71: =$B$23 -> 0 | Q71: =$Q$23 -> 0 | S71: =$S$23 -> 0 | U71: =$U$23 -> 0 | W71: =$W$23 -> 0 | Z71: =$Z$23 -> 0
A72: =$A$24 -> 0 | B72: =$B$24 -> 0 | Q72: =$Q$24 -> 0 | S72: =$S$24 -> 0 | U72: =$U$24 -> 0 | W72: =$W$24 -> 0 | Z72: =$Z$24 -> 0
A73: =$A$25 -> 0 | B73: =$B$25 -> 0 | Q73: =$Q$25 -> 0 | S73: =$S$25 -> 0 | U73: =$U$25 -> 0 | W73: =$W$25 -> 0 | Z73: =$Z$25 -> 0
A74: =$A$26 -> 0 | B74: =$B$26 -> 0 | Q74: =$Q$26 -> 0 | S74: =$S$26 -> 0 | U74: =$U$26 -> 0 | W74: =$W$26 -> 0 | Z74: =$Z$26 -> 0
A75: =$A$27 -> 0 | B75: =$B$27 -> 0 | Q75: =$Q$27 -> 0 | S75: =$S$27 -> 0 | U75: =$U$27 -> 0 | W75: =$W$27 -> 0 | Z75: =$Z$27 -> 0
A76: =$A$28 -> 0 | B76: =$B$28 -> 0 | Q76: =$Q$28 -> 0 | S76: =$S$28 -> 0 | U76: =$U$28 -> 0 | W76: =$W$28 -> 0 | Z76: =$Z$28 -> 0
...

Sheet 納品・請求書_2
X1: =請求総括表!$U$1 -> ■■■■■■■■■■■■■■■
I2: 納品・請求書 | X2: =請求総括表!$U$2 -> 年 月 日
I3: 【販売用】 | Q3: (請求者控) | X3: No. | Y3: 2
A5: 株式会社 | F5: 御中 | O5: 請求者 | Q5: 登録番号： | T5: =請求総括表!$U$6 -> 0
A6: --- 営業所を選択してください。 --- | O6: 住所 | Q6: =請求総括表!$R$7 -> 0
A7: 担当者 | G7: 受注番号
A8: 客先名 | O8: 会社名 | Q8: =請求総括表!$R$9 -> 0
A9: 工事先名
A10: 工事場所 | O10: ＴＥＬ | Q10: =ASC(請求総括表!$R$11) | W10: ＦＡＸ | Y10: =ASC(請求総括表!$R$12)
A12: 月/日 | B12: 工事内容 | Q12: 数量 | S12: 単位 | U12: 税率 | W12: 単価 | Z12: 金額(税抜)
A42: 備考 | M42: 税率10% | P42: 小計 | R42: =SUMIFS($Z$13:$Z$40,$U$13:$U$40,"10%") -> 0 | W42: 消費税
M43: 税率 8% | P43: 小計 | R43: =SUMIFS($Z$13:$Z$40,$U$13:$U$40,"8%") -> 0 | W43: 消費税
M44: 非課税 | P44: 小計 | R44: =SUMIFS($Z$13:$Z$40,$U$13:$U$40,"非課税") -> 0
M46: 請求金額（税込） | S46: =SUM($R$42,$Z$42,$R$43,$Z$43,$R$44) -> 0 | AA46: 決裁
X49: =$X$1 -> ■■■■■■■■■■■■■■■
I50: 納品・請求書 | X50: =$X$2 -> 年 月 日
I51: 【販売用】 | Q51: (サンエイ送付用) | X51: No. | Y51: =$Y$3 -> 2
A53: 株式会社 | F53: 御中 | O53: 請求者 | Q53: 登録番号： | T53: =$T$5 -> 0
A54: =$A$6 -> --- 営業所を選択してください。 --- | O54: 住所 | Q54: =$Q$6 -> 0
A55: 担当者 | C55: =$C$7 -> 0 | G55: 受注番号 | J55: =$J$7 -> 0
A56: 客先名 | C56: =$C$8 -> 0 | O56: 会社名 | Q56: =$Q$8 -> 0
A57: 工事先名 | C57: =$C$9 -> 0
A58: 工事場所 | C58: =$C$10 -> 0 | O58: ＴＥＬ | Q58: =$Q$10 | W58: ＦＡＸ | Y58: =$Y$10
A60: 月/日 | B60: 工事内容 | Q60: 数量 | S60: 単位 | U60: 税率 | W60: 単価 | Z60: 金額(税抜)
A61: =$A$13 -> 0 | B61: =$B$13 -> 0 | Q61: =$Q$13 -> 0 | S61: =$S$13 -> 0 | U61: =$U$13 -> 0 | W61: =$W$13 -> 0 | Z61: =$Z$13 -> 0
A62: =$A$14 -> 0 | B62: =$B$14 -> 0 | Q62: =$Q$14 -> 0 | S62: =$S$14 -> 0 | U62: =$U$14 -> 0 | W62: =$W$14 -> 0 | Z62: =$Z$14 -> 0
A63: =$A$15 -> 0 | B63: =$B$15 -> 0 | Q63: =$Q$15 -> 0 | S63: =$S$15 -> 0 | U63: =$U$15 -> 0 | W63: =$W$15 -> 0 | Z63: =$Z$15 -> 0
A64: =$A$16 -> 0 | B64: =$B$16 -> 0 | Q64: =$Q$16 -> 0 | S64: =$S$16 -> 0 | U64: =$U$16 -> 0 | W64: =$W$16 -> 0 | Z64: =$Z$16 -> 0
A65: =$A$17 -> 0 | B65: =$B$17 -> 0 | Q65: =$Q$17 -> 0 | S65: =$S$17 -> 0 | U65: =$U$17 -> 0 | W65: =$W$17 -> 0 | Z65: =$Z$17 -> 0
A66: =$A$18 -> 0 | B66: =$B$18 -> 0 | Q66: =$Q$18 -> 0 | S66: =$S$18 -> 0 | U66: =$U$18 -> 0 | W66: =$W$18 -> 0 | Z66: =$Z$18 -> 0
A67: =$A$19 -> 0 | B67: =$B$19 -> 0 | Q67: =$Q$19 -> 0 | S67: =$S$19 -> 0 | U67: =$U$19 -> 0 | W67: =$W$19 -> 0 | Z67: =$Z$19 -> 0
A68: =$A$20 -> 0 | B68: =$B$20 -> 0 | Q68: =$Q$20 -> 0 | S68: =$S$20 -> 0 | U68: =$U$20 -> 0 | W68: =$W$20 -> 0 | Z68: =$Z$20 -> 0
A69: =$A$21 -> 0 | B69: =$B$21 -> 0 | Q69: =$Q$21 -> 0 | S69: =$S$21 -> 0 | U69: =$U$21 -> 0 | W69: =$W$21 -> 0 | Z69: =$Z$21 -> 0
A70: =$A$22 -> 0 | B70: =$B$22 -> 0 | Q70: =$Q$22 -> 0 | S70: =$S$22 -> 0 | U70: =$U$22 -> 0 | W70: =$W$22 -> 0 | Z70: =$Z$22 -> 0
A71: =$A$23 -> 0 | B71: =$B$23 -> 0 | Q71: =$Q$23 -> 0 | S71: =$S$23 -> 0 | U71: =$U$23 -> 0 | W71: =$W$23 -> 0 | Z71: =$Z$23 -> 0
A72: =$A$24 -> 0 | B72: =$B$24 -> 0 | Q72: =$Q$24 -> 0 | S72: =$S$24 -> 0 | U72: =$U$24 -> 0 | W72: =$W$24 -> 0 | Z72: =$Z$24 -> 0
A73: =$A$25 -> 0 | B73: =$B$25 -> 0 | Q73: =$Q$25 -> 0 | S73: =$S$25 -> 0 | U73: =$U$25 -> 0 | W73: =$W$25 -> 0 | Z73: =$Z$25 -> 0
A74: =$A$26 -> 0 | B74: =$B$26 -> 0 | Q74: =$Q$26 -> 0 | S74: =$S$26 -> 0 | U74: =$U$26 -> 0 | W74: =$W$26 -> 0 | Z74: =$Z$26 -> 0
A75: =$A$27 -> 0 | B75: =$B$27 -> 0 | Q75: =$Q$27 -> 0 | S75: =$S$27 -> 0 | U75: =$U$27 -> 0 | W75: =$W$27 -> 0 | Z75: =$Z$27 -> 0
A76: =$A$28 -> 0 | B76: =$B$28 -> 0 | Q76: =$Q$28 -> 0 | S76: =$S$28 -> 0 | U76: =$U$28 -> 0 | W76: =$W$28 -> 0 | Z76: =$Z$28 -> 0
...

Sheet 納品・請求書_3
X1: =請求総括表!$U$1 -> ■■■■■■■■■■■■■■■
I2: 納品・請求書 | X2: =請求総括表!$U$2 -> 年 月 日
I3: 【販売用】 | Q3: (請求者控) | X3: No. | Y3: 3
A5: 株式会社 | F5: 御中 | O5: 請求者 | Q5: 登録番号： | T5: =請求総括表!$U$6 -> 0
A6: --- 営業所を選択してください。 --- | O6: 住所 | Q6: =請求総括表!$R$7 -> 0
A7: 担当者 | G7: 受注番号
A8: 客先名 | O8: 会社名 | Q8: =請求総括表!$R$9 -> 0
A9: 工事先名
A10: 工事場所 | O10: ＴＥＬ | Q10: =ASC(請求総括表!$R$11) | W10: ＦＡＸ | Y10: =ASC(請求総括表!$R$12)
A12: 月/日 | B12: 工事内容 | Q12: 数量 | S12: 単位 | U12: 税率 | W12: 単価 | Z12: 金額(税抜)
A42: 備考 | M42: 税率10% | P42: 小計 | R42: =SUMIFS($Z$13:$Z$40,$U$13:$U$40,"10%") -> 0 | W42: 消費税
M43: 税率 8% | P43: 小計 | R43: =SUMIFS($Z$13:$Z$40,$U$13:$U$40,"8%") -> 0 | W43: 消費税
M44: 非課税 | P44: 小計 | R44: =SUMIFS($Z$13:$Z$40,$U$13:$U$40,"非課税") -> 0
M46: 請求金額（税込） | S46: =SUM($R$42,$Z$42,$R$43,$Z$43,$R$44) -> 0 | AA46: 決裁
X49: =$X$1 -> ■■■■■■■■■■■■■■■
I50: 納品・請求書 | X50: =$X$2 -> 年 月 日
I51: 【販売用】 | Q51: (サンエイ送付用) | X51: No. | Y51: 3
A53: 株式会社 | F53: 御中 | O53: 請求者 | Q53: 登録番号： | T53: =$T$5 -> 0
A54: =$A$6 -> --- 営業所を選択してください。 --- | O54: 住所 | Q54: =$Q$6 -> 0
A55: 担当者 | C55: =$C$7 -> 0 | G55: 受注番号 | J55: =$J$7 -> 0
A56: 客先名 | C56: =$C$8 -> 0 | O56: 会社名 | Q56: =$Q$8 -> 0
A57: 工事先名 | C57: =$C$9 -> 0
A58: 工事場所 | C58: =$C$10 -> 0 | O58: ＴＥＬ | Q58: =$Q$10 | W58: ＦＡＸ | Y58: =$Y$10
A60: 月/日 | B60: 工事内容 | Q60: 数量 | S60: 単位 | U60: 税率 | W60: 単価 | Z60: 金額(税抜)
A61: =$A$13 -> 0 | B61: =$B$13 -> 0 | Q61: =$Q$13 -> 0 | S61: =$S$13 -> 0 | U61: =$U$13 -> 0 | W61: =$W$13 -> 0 | Z61: =$Z$13 -> 0
A62: =$A$14 -> 0 | B62: =$B$14 -> 0 | Q62: =$Q$14 -> 0 | S62: =$S$14 -> 0 | U62: =$U$14 -> 0 | W62: =$W$14 -> 0 | Z62: =$Z$14 -> 0
A63: =$A$15 -> 0 | B63: =$B$15 -> 0 | Q63: =$Q$15 -> 0 | S63: =$S$15 -> 0 | U63: =$U$15 -> 0 | W63: =$W$15 -> 0 | Z63: =$Z$15 -> 0
A64: =$A$16 -> 0 | B64: =$B$16 -> 0 | Q64: =$Q$16 -> 0 | S64: =$S$16 -> 0 | U64: =$U$16 -> 0 | W64: =$W$16 -> 0 | Z64: =$Z$16 -> 0
A65: =$A$17 -> 0 | B65: =$B$17 -> 0 | Q65: =$Q$17 -> 0 | S65: =$S$17 -> 0 | U65: =$U$17 -> 0 | W65: =$W$17 -> 0 | Z65: =$Z$17 -> 0
A66: =$A$18 -> 0 | B66: =$B$18 -> 0 | Q66: =$Q$18 -> 0 | S66: =$S$18 -> 0 | U66: =$U$18 -> 0 | W66: =$W$18 -> 0 | Z66: =$Z$18 -> 0
A67: =$A$19 -> 0 | B67: =$B$19 -> 0 | Q67: =$Q$19 -> 0 | S67: =$S$19 -> 0 | U67: =$U$19 -> 0 | W67: =$W$19 -> 0 | Z67: =$Z$19 -> 0
A68: =$A$20 -> 0 | B68: =$B$20 -> 0 | Q68: =$Q$20 -> 0 | S68: =$S$20 -> 0 | U68: =$U$20 -> 0 | W68: =$W$20 -> 0 | Z68: =$Z$20 -> 0
A69: =$A$21 -> 0 | B69: =$B$21 -> 0 | Q69: =$Q$21 -> 0 | S69: =$S$21 -> 0 | U69: =$U$21 -> 0 | W69: =$W$21 -> 0 | Z69: =$Z$21 -> 0
A70: =$A$22 -> 0 | B70: =$B$22 -> 0 | Q70: =$Q$22 -> 0 | S70: =$S$22 -> 0 | U70: =$U$22 -> 0 | W70: =$W$22 -> 0 | Z70: =$Z$22 -> 0
A71: =$A$23 -> 0 | B71: =$B$23 -> 0 | Q71: =$Q$23 -> 0 | S71: =$S$23 -> 0 | U71: =$U$23 -> 0 | W71: =$W$23 -> 0 | Z71: =$Z$23 -> 0
A72: =$A$24 -> 0 | B72: =$B$24 -> 0 | Q72: =$Q$24 -> 0 | S72: =$S$24 -> 0 | U72: =$U$24 -> 0 | W72: =$W$24 -> 0 | Z72: =$Z$24 -> 0
A73: =$A$25 -> 0 | B73: =$B$25 -> 0 | Q73: =$Q$25 -> 0 | S73: =$S$25 -> 0 | U73: =$U$25 -> 0 | W73: =$W$25 -> 0 | Z73: =$Z$25 -> 0
A74: =$A$26 -> 0 | B74: =$B$26 -> 0 | Q74: =$Q$26 -> 0 | S74: =$S$26 -> 0 | U74: =$U$26 -> 0 | W74: =$W$26 -> 0 | Z74: =$Z$26 -> 0
A75: =$A$27 -> 0 | B75: =$B$27 -> 0 | Q75: =$Q$27 -> 0 | S75: =$S$27 -> 0 | U75: =$U$27 -> 0 | W75: =$W$27 -> 0 | Z75: =$Z$27 -> 0
A76: =$A$28 -> 0 | B76: =$B$28 -> 0 | Q76: =$Q$28 -> 0 | S76: =$S$28 -> 0 | U76: =$U$28 -> 0 | W76: =$W$28 -> 0 | Z76: =$Z$28 -> 0
...

Sheet 納品・請求書_4
X1: =請求総括表!$U$1 -> ■■■■■■■■■■■■■■■
I2: 納品・請求書 | X2: =請求総括表!$U$2 -> 年 月 日
I3: 【販売用】 | Q3: (請求者控) | X3: No. | Y3: 4
A5: 株式会社 | F5: 御中 | O5: 請求者 | Q5: 登録番号： | T5: =請求総括表!$U$6 -> 0
A6: --- 営業所を選択してください。 --- | O6: 住所 | Q6: =請求総括表!$R$7 -> 0
A7: 担当者 | G7: 受注番号
A8: 客先名 | O8: 会社名 | Q8: =請求総括表!$R$9 -> 0
A9: 工事先名
A10: 工事場所 | O10: ＴＥＬ | Q10: =ASC(請求総括表!$R$11) | W10: ＦＡＸ | Y10: =ASC(請求総括表!$R$12)
A12: 月/日 | B12: 工事内容 | Q12: 数量 | S12: 単位 | U12: 税率 | W12: 単価 | Z12: 金額(税抜)
A42: 備考 | M42: 税率10% | P42: 小計 | R42: =SUMIFS($Z$13:$Z$40,$U$13:$U$40,"10%") -> 0 | W42: 消費税
M43: 税率 8% | P43: 小計 | R43: =SUMIFS($Z$13:$Z$40,$U$13:$U$40,"8%") -> 0 | W43: 消費税
M44: 非課税 | P44: 小計 | R44: =SUMIFS($Z$13:$Z$40,$U$13:$U$40,"非課税") -> 0
M46: 請求金額（税込） | S46: =SUM($R$42,$Z$42,$R$43,$Z$43,$R$44) -> 0 | AA46: 決裁
X49: =$X$1 -> ■■■■■■■■■■■■■■■
I50: 納品・請求書 | X50: =$X$2 -> 年 月 日
I51: 【販売用】 | Q51: (サンエイ送付用) | X51: No. | Y51: =$Y$3 -> 4
A53: 株式会社 | F53: 御中 | O53: 請求者 | Q53: 登録番号： | T53: =$T$5 -> 0
A54: =$A$6 -> --- 営業所を選択してください。 --- | O54: 住所 | Q54: =$Q$6 -> 0
A55: 担当者 | C55: =$C$7 -> 0 | G55: 受注番号 | J55: =$J$7 -> 0
A56: 客先名 | C56: =$C$8 -> 0 | O56: 会社名 | Q56: =$Q$8 -> 0
A57: 工事先名 | C57: =$C$9 -> 0
A58: 工事場所 | C58: =$C$10 -> 0 | O58: ＴＥＬ | Q58: =$Q$10 | W58: ＦＡＸ | Y58: =$Y$10
A60: 月/日 | B60: 工事内容 | Q60: 数量 | S60: 単位 | U60: 税率 | W60: 単価 | Z60: 金額(税抜)
A61: =$A$13 -> 0 | B61: =$B$13 -> 0 | Q61: =$Q$13 -> 0 | S61: =$S$13 -> 0 | U61: =$U$13 -> 0 | W61: =$W$13 -> 0 | Z61: =$Z$13 -> 0
A62: =$A$14 -> 0 | B62: =$B$14 -> 0 | Q62: =$Q$14 -> 0 | S62: =$S$14 -> 0 | U62: =$U$14 -> 0 | W62: =$W$14 -> 0 | Z62: =$Z$14 -> 0
A63: =$A$15 -> 0 | B63: =$B$15 -> 0 | Q63: =$Q$15 -> 0 | S63: =$S$15 -> 0 | U63: =$U$15 -> 0 | W63: =$W$15 -> 0 | Z63: =$Z$15 -> 0
A64: =$A$16 -> 0 | B64: =$B$16 -> 0 | Q64: =$Q$16 -> 0 | S64: =$S$16 -> 0 | U64: =$U$16 -> 0 | W64: =$W$16 -> 0 | Z64: =$Z$16 -> 0
A65: =$A$17 -> 0 | B65: =$B$17 -> 0 | Q65: =$Q$17 -> 0 | S65: =$S$17 -> 0 | U65: =$U$17 -> 0 | W65: =$W$17 -> 0 | Z65: =$Z$17 -> 0
A66: =$A$18 -> 0 | B66: =$B$18 -> 0 | Q66: =$Q$18 -> 0 | S66: =$S$18 -> 0 | U66: =$U$18 -> 0 | W66: =$W$18 -> 0 | Z66: =$Z$18 -> 0
A67: =$A$19 -> 0 | B67: =$B$19 -> 0 | Q67: =$Q$19 -> 0 | S67: =$S$19 -> 0 | U67: =$U$19 -> 0 | W67: =$W$19 -> 0 | Z67: =$Z$19 -> 0
A68: =$A$20 -> 0 | B68: =$B$20 -> 0 | Q68: =$Q$20 -> 0 | S68: =$S$20 -> 0 | U68: =$U$20 -> 0 | W68: =$W$20 -> 0 | Z68: =$Z$20 -> 0
A69: =$A$21 -> 0 | B69: =$B$21 -> 0 | Q69: =$Q$21 -> 0 | S69: =$S$21 -> 0 | U69: =$U$21 -> 0 | W69: =$W$21 -> 0 | Z69: =$Z$21 -> 0
A70: =$A$22 -> 0 | B70: =$B$22 -> 0 | Q70: =$Q$22 -> 0 | S70: =$S$22 -> 0 | U70: =$U$22 -> 0 | W70: =$W$22 -> 0 | Z70: =$Z$22 -> 0
A71: =$A$23 -> 0 | B71: =$B$23 -> 0 | Q71: =$Q$23 -> 0 | S71: =$S$23 -> 0 | U71: =$U$23 -> 0 | W71: =$W$23 -> 0 | Z71: =$Z$23 -> 0
A72: =$A$24 -> 0 | B72: =$B$24 -> 0 | Q72: =$Q$24 -> 0 | S72: =$S$24 -> 0 | U72: =$U$24 -> 0 | W72: =$W$24 -> 0 | Z72: =$Z$24 -> 0
A73: =$A$25 -> 0 | B73: =$B$25 -> 0 | Q73: =$Q$25 -> 0 | S73: =$S$25 -> 0 | U73: =$U$25 -> 0 | W73: =$W$25 -> 0 | Z73: =$Z$25 -> 0
A74: =$A$26 -> 0 | B74: =$B$26 -> 0 | Q74: =$Q$26 -> 0 | S74: =$S$26 -> 0 | U74: =$U$26 -> 0 | W74: =$W$26 -> 0 | Z74: =$Z$26 -> 0
A75: =$A$27 -> 0 | B75: =$B$27 -> 0 | Q75: =$Q$27 -> 0 | S75: =$S$27 -> 0 | U75: =$U$27 -> 0 | W75: =$W$27 -> 0 | Z75: =$Z$27 -> 0
A76: =$A$28 -> 0 | B76: =$B$28 -> 0 | Q76: =$Q$28 -> 0 | S76: =$S$28 -> 0 | U76: =$U$28 -> 0 | W76: =$W$28 -> 0 | Z76: =$Z$28 -> 0
...

Sheet 納品・請求書_5
X1: =請求総括表!$U$1 -> ■■■■■■■■■■■■■■■
I2: 納品・請求書 | X2: =請求総括表!$U$2 -> 年 月 日
I3: 【販売用】 | Q3: (請求者控) | X3: No. | Y3: 5
A5: 株式会社 | F5: 御中 | O5: 請求者 | Q5: 登録番号： | T5: =請求総括表!$U$6 -> 0
A6: --- 営業所を選択してください。 --- | O6: 住所 | Q6: =請求総括表!$R$7 -> 0
A7: 担当者 | G7: 受注番号
A8: 客先名 | O8: 会社名 | Q8: =請求総括表!$R$9 -> 0
A9: 工事先名
A10: 工事場所 | O10: ＴＥＬ | Q10: =ASC(請求総括表!$R$11) | W10: ＦＡＸ | Y10: =ASC(請求総括表!$R$12)
A12: 月/日 | B12: 工事内容 | Q12: 数量 | S12: 単位 | U12: 税率 | W12: 単価 | Z12: 金額(税抜)
A42: 備考 | M42: 税率10% | P42: 小計 | R42: =SUMIFS($Z$13:$Z$40,$U$13:$U$40,"10%") -> 0 | W42: 消費税
M43: 税率 8% | P43: 小計 | R43: =SUMIFS($Z$13:$Z$40,$U$13:$U$40,"8%") -> 0 | W43: 消費税
M44: 非課税 | P44: 小計 | R44: =SUMIFS($Z$13:$Z$40,$U$13:$U$40,"非課税") -> 0
M46: 請求金額（税込） | S46: =SUM($R$42,$Z$42,$R$43,$Z$43,$R$44) -> 0 | AA46: 決裁
X49: =$X$1 -> ■■■■■■■■■■■■■■■
I50: 納品・請求書 | X50: =$X$2 -> 年 月 日
I51: 【販売用】 | Q51: (サンエイ送付用) | X51: No. | Y51: =$Y$3 -> 5
A53: 株式会社 | F53: 御中 | O53: 請求者 | Q53: 登録番号： | T53: =$T$5 -> 0
A54: =$A$6 -> --- 営業所を選択してください。 --- | O54: 住所 | Q54: =$Q$6 -> 0
A55: 担当者 | C55: =$C$7 -> 0 | G55: 受注番号 | J55: =$J$7 -> 0
A56: 客先名 | C56: =$C$8 -> 0 | O56: 会社名 | Q56: =$Q$8 -> 0
A57: 工事先名 | C57: =$C$9 -> 0
A58: 工事場所 | C58: =$C$10 -> 0 | O58: ＴＥＬ | Q58: =$Q$10 | W58: ＦＡＸ | Y58: =$Y$10
A60: 月/日 | B60: 工事内容 | Q60: 数量 | S60: 単位 | U60: 税率 | W60: 単価 | Z60: 金額(税抜)
A61: =$A$13 -> 0 | B61: =$B$13 -> 0 | Q61: =$Q$13 -> 0 | S61: =$S$13 -> 0 | U61: =$U$13 -> 0 | W61: =$W$13 -> 0 | Z61: =$Z$13 -> 0
A62: =$A$14 -> 0 | B62: =$B$14 -> 0 | Q62: =$Q$14 -> 0 | S62: =$S$14 -> 0 | U62: =$U$14 -> 0 | W62: =$W$14 -> 0 | Z62: =$Z$14 -> 0
A63: =$A$15 -> 0 | B63: =$B$15 -> 0 | Q63: =$Q$15 -> 0 | S63: =$S$15 -> 0 | U63: =$U$15 -> 0 | W63: =$W$15 -> 0 | Z63: =$Z$15 -> 0
A64: =$A$16 -> 0 | B64: =$B$16 -> 0 | Q64: =$Q$16 -> 0 | S64: =$S$16 -> 0 | U64: =$U$16 -> 0 | W64: =$W$16 -> 0 | Z64: =$Z$16 -> 0
A65: =$A$17 -> 0 | B65: =$B$17 -> 0 | Q65: =$Q$17 -> 0 | S65: =$S$17 -> 0 | U65: =$U$17 -> 0 | W65: =$W$17 -> 0 | Z65: =$Z$17 -> 0
A66: =$A$18 -> 0 | B66: =$B$18 -> 0 | Q66: =$Q$18 -> 0 | S66: =$S$18 -> 0 | U66: =$U$18 -> 0 | W66: =$W$18 -> 0 | Z66: =$Z$18 -> 0
A67: =$A$19 -> 0 | B67: =$B$19 -> 0 | Q67: =$Q$19 -> 0 | S67: =$S$19 -> 0 | U67: =$U$19 -> 0 | W67: =$W$19 -> 0 | Z67: =$Z$19 -> 0
A68: =$A$20 -> 0 | B68: =$B$20 -> 0 | Q68: =$Q$20 -> 0 | S68: =$S$20 -> 0 | U68: =$U$20 -> 0 | W68: =$W$20 -> 0 | Z68: =$Z$20 -> 0
A69: =$A$21 -> 0 | B69: =$B$21 -> 0 | Q69: =$Q$21 -> 0 | S69: =$S$21 -> 0 | U69: =$U$21 -> 0 | W69: =$W$21 -> 0 | Z69: =$Z$21 -> 0
A70: =$A$22 -> 0 | B70: =$B$22 -> 0 | Q70: =$Q$22 -> 0 | S70: =$S$22 -> 0 | U70: =$U$22 -> 0 | W70: =$W$22 -> 0 | Z70: =$Z$22 -> 0
A71: =$A$23 -> 0 | B71: =$B$23 -> 0 | Q71: =$Q$23 -> 0 | S71: =$S$23 -> 0 | U71: =$U$23 -> 0 | W71: =$W$23 -> 0 | Z71: =$Z$23 -> 0
A72: =$A$24 -> 0 | B72: =$B$24 -> 0 | Q72: =$Q$24 -> 0 | S72: =$S$24 -> 0 | U72: =$U$24 -> 0 | W72: =$W$24 -> 0 | Z72: =$Z$24 -> 0
A73: =$A$25 -> 0 | B73: =$B$25 -> 0 | Q73: =$Q$25 -> 0 | S73: =$S$25 -> 0 | U73: =$U$25 -> 0 | W73: =$W$25 -> 0 | Z73: =$Z$25 -> 0
A74: =$A$26 -> 0 | B74: =$B$26 -> 0 | Q74: =$Q$26 -> 0 | S74: =$S$26 -> 0 | U74: =$U$26 -> 0 | W74: =$W$26 -> 0 | Z74: =$Z$26 -> 0
A75: =$A$27 -> 0 | B75: =$B$27 -> 0 | Q75: =$Q$27 -> 0 | S75: =$S$27 -> 0 | U75: =$U$27 -> 0 | W75: =$W$27 -> 0 | Z75: =$Z$27 -> 0
A76: =$A$28 -> 0 | B76: =$B$28 -> 0 | Q76: =$Q$28 -> 0 | S76: =$S$28 -> 0 | U76: =$U$28 -> 0 | W76: =$W$28 -> 0 | Z76: =$Z$28 -> 0
...

Sheet 納品・請求書_6
X1: =請求総括表!$U$1 -> ■■■■■■■■■■■■■■■
I2: 納品・請求書 | X2: =請求総括表!$U$2 -> 年 月 日
I3: 【販売用】 | Q3: (請求者控) | X3: No. | Y3: 6
A5: 株式会社 | F5: 御中 | O5: 請求者 | Q5: 登録番号： | T5: =請求総括表!$U$6 -> 0
A6: --- 営業所を選択してください。 --- | O6: 住所 | Q6: =請求総括表!$R$7 -> 0
A7: 担当者 | G7: 受注番号
A8: 客先名 | O8: 会社名 | Q8: =請求総括表!$R$9 -> 0
A9: 工事先名
A10: 工事場所 | O10: ＴＥＬ | Q10: =ASC(請求総括表!$R$11) | W10: ＦＡＸ | Y10: =ASC(請求総括表!$R$12)
A12: 月/日 | B12: 工事内容 | Q12: 数量 | S12: 単位 | U12: 税率 | W12: 単価 | Z12: 金額(税抜)
A42: 備考 | M42: 税率10% | P42: 小計 | R42: =SUMIFS($Z$13:$Z$40,$U$13:$U$40,"10%") -> 0 | W42: 消費税
M43: 税率 8% | P43: 小計 | R43: =SUMIFS($Z$13:$Z$40,$U$13:$U$40,"8%") -> 0 | W43: 消費税
M44: 非課税 | P44: 小計 | R44: =SUMIFS($Z$13:$Z$40,$U$13:$U$40,"非課税") -> 0
M46: 請求金額（税込） | S46: =SUM($R$42,$Z$42,$R$43,$Z$43,$R$44) -> 0 | AA46: 決裁
X49: =$X$1 -> ■■■■■■■■■■■■■■■
I50: 納品・請求書 | X50: =$X$2 -> 年 月 日
I51: 【販売用】 | Q51: (サンエイ送付用) | X51: No. | Y51: =$Y$3 -> 6
A53: 株式会社 | F53: 御中 | O53: 請求者 | Q53: 登録番号： | T53: =$T$5 -> 0
A54: =$A$6 -> --- 営業所を選択してください。 --- | O54: 住所 | Q54: =$Q$6 -> 0
A55: 担当者 | C55: =$C$7 -> 0 | G55: 受注番号 | J55: =$J$7 -> 0
A56: 客先名 | C56: =$C$8 -> 0 | O56: 会社名 | Q56: =$Q$8 -> 0
A57: 工事先名 | C57: =$C$9 -> 0
A58: 工事場所 | C58: =$C$10 -> 0 | O58: ＴＥＬ | Q58: =$Q$10 | W58: ＦＡＸ | Y58: =$Y$10
A60: 月/日 | B60: 工事内容 | Q60: 数量 | S60: 単位 | U60: 税率 | W60: 単価 | Z60: 金額(税抜)
A61: =$A$13 -> 0 | B61: =$B$13 -> 0 | Q61: =$Q$13 -> 0 | S61: =$S$13 -> 0 | U61: =$U$13 -> 0 | W61: =$W$13 -> 0 | Z61: =$Z$13 -> 0
A62: =$A$14 -> 0 | B62: =$B$14 -> 0 | Q62: =$Q$14 -> 0 | S62: =$S$14 -> 0 | U62: =$U$14 -> 0 | W62: =$W$14 -> 0 | Z62: =$Z$14 -> 0
A63: =$A$15 -> 0 | B63: =$B$15 -> 0 | Q63: =$Q$15 -> 0 | S63: =$S$15 -> 0 | U63: =$U$15 -> 0 | W63: =$W$15 -> 0 | Z63: =$Z$15 -> 0
A64: =$A$16 -> 0 | B64: =$B$16 -> 0 | Q64: =$Q$16 -> 0 | S64: =$S$16 -> 0 | U64: =$U$16 -> 0 | W64: =$W$16 -> 0 | Z64: =$Z$16 -> 0
A65: =$A$17 -> 0 | B65: =$B$17 -> 0 | Q65: =$Q$17 -> 0 | S65: =$S$17 -> 0 | U65: =$U$17 -> 0 | W65: =$W$17 -> 0 | Z65: =$Z$17 -> 0
A66: =$A$18 -> 0 | B66: =$B$18 -> 0 | Q66: =$Q$18 -> 0 | S66: =$S$18 -> 0 | U66: =$U$18 -> 0 | W66: =$W$18 -> 0 | Z66: =$Z$18 -> 0
A67: =$A$19 -> 0 | B67: =$B$19 -> 0 | Q67: =$Q$19 -> 0 | S67: =$S$19 -> 0 | U67: =$U$19 -> 0 | W67: =$W$19 -> 0 | Z67: =$Z$19 -> 0
A68: =$A$20 -> 0 | B68: =$B$20 -> 0 | Q68: =$Q$20 -> 0 | S68: =$S$20 -> 0 | U68: =$U$20 -> 0 | W68: =$W$20 -> 0 | Z68: =$Z$20 -> 0
A69: =$A$21 -> 0 | B69: =$B$21 -> 0 | Q69: =$Q$21 -> 0 | S69: =$S$21 -> 0 | U69: =$U$21 -> 0 | W69: =$W$21 -> 0 | Z69: =$Z$21 -> 0
A70: =$A$22 -> 0 | B70: =$B$22 -> 0 | Q70: =$Q$22 -> 0 | S70: =$S$22 -> 0 | U70: =$U$22 -> 0 | W70: =$W$22 -> 0 | Z70: =$Z$22 -> 0
A71: =$A$23 -> 0 | B71: =$B$23 -> 0 | Q71: =$Q$23 -> 0 | S71: =$S$23 -> 0 | U71: =$U$23 -> 0 | W71: =$W$23 -> 0 | Z71: =$Z$23 -> 0
A72: =$A$24 -> 0 | B72: =$B$24 -> 0 | Q72: =$Q$24 -> 0 | S72: =$S$24 -> 0 | U72: =$U$24 -> 0 | W72: =$W$24 -> 0 | Z72: =$Z$24 -> 0
A73: =$A$25 -> 0 | B73: =$B$25 -> 0 | Q73: =$Q$25 -> 0 | S73: =$S$25 -> 0 | U73: =$U$25 -> 0 | W73: =$W$25 -> 0 | Z73: =$Z$25 -> 0
A74: =$A$26 -> 0 | B74: =$B$26 -> 0 | Q74: =$Q$26 -> 0 | S74: =$S$26 -> 0 | U74: =$U$26 -> 0 | W74: =$W$26 -> 0 | Z74: =$Z$26 -> 0
A75: =$A$27 -> 0 | B75: =$B$27 -> 0 | Q75: =$Q$27 -> 0 | S75: =$S$27 -> 0 | U75: =$U$27 -> 0 | W75: =$W$27 -> 0 | Z75: =$Z$27 -> 0
A76: =$A$28 -> 0 | B76: =$B$28 -> 0 | Q76: =$Q$28 -> 0 | S76: =$S$28 -> 0 | U76: =$U$28 -> 0 | W76: =$W$28 -> 0 | Z76: =$Z$28 -> 0
...

Sheet 納品・請求書_7
X1: =請求総括表!$U$1 -> ■■■■■■■■■■■■■■■
I2: 納品・請求書 | X2: =請求総括表!$U$2 -> 年 月 日
I3: 【販売用】 | Q3: (請求者控) | X3: No. | Y3: 7
A5: 株式会社 | F5: 御中 | O5: 請求者 | Q5: 登録番号： | T5: =請求総括表!$U$6 -> 0
A6: --- 営業所を選択してください。 --- | O6: 住所 | Q6: =請求総括表!$R$7 -> 0
A7: 担当者 | G7: 受注番号
A8: 客先名 | O8: 会社名 | Q8: =請求総括表!$R$9 -> 0
A9: 工事先名
A10: 工事場所 | O10: ＴＥＬ | Q10: =ASC(請求総括表!$R$11) | W10: ＦＡＸ | Y10: =ASC(請求総括表!$R$12)
A12: 月/日 | B12: 工事内容 | Q12: 数量 | S12: 単位 | U12: 税率 | W12: 単価 | Z12: 金額(税抜)
A42: 備考 | M42: 税率10% | P42: 小計 | R42: =SUMIFS($Z$13:$Z$40,$U$13:$U$40,"10%") -> 0 | W42: 消費税
M43: 税率 8% | P43: 小計 | R43: =SUMIFS($Z$13:$Z$40,$U$13:$U$40,"8%") -> 0 | W43: 消費税
M44: 非課税 | P44: 小計 | R44: =SUMIFS($Z$13:$Z$40,$U$13:$U$40,"非課税") -> 0
M46: 請求金額（税込） | S46: =SUM($R$42,$Z$42,$R$43,$Z$43,$R$44) -> 0 | AA46: 決裁
X49: =$X$1 -> ■■■■■■■■■■■■■■■
I50: 納品・請求書 | X50: =$X$2 -> 年 月 日
I51: 【販売用】 | Q51: (サンエイ送付用) | X51: No. | Y51: =$Y$3 -> 7
A53: 株式会社 | F53: 御中 | O53: 請求者 | Q53: 登録番号： | T53: =$T$5 -> 0
A54: =$A$6 -> --- 営業所を選択してください。 --- | O54: 住所 | Q54: =$Q$6 -> 0
A55: 担当者 | C55: =$C$7 -> 0 | G55: 受注番号 | J55: =$J$7 -> 0
A56: 客先名 | C56: =$C$8 -> 0 | O56: 会社名 | Q56: =$Q$8 -> 0
A57: 工事先名 | C57: =$C$9 -> 0
A58: 工事場所 | C58: =$C$10 -> 0 | O58: ＴＥＬ | Q58: =$Q$10 | W58: ＦＡＸ | Y58: =$Y$10
A60: 月/日 | B60: 工事内容 | Q60: 数量 | S60: 単位 | U60: 税率 | W60: 単価 | Z60: 金額(税抜)
A61: =$A$13 -> 0 | B61: =$B$13 -> 0 | Q61: =$Q$13 -> 0 | S61: =$S$13 -> 0 | U61: =$U$13 -> 0 | W61: =$W$13 -> 0 | Z61: =$Z$13 -> 0
A62: =$A$14 -> 0 | B62: =$B$14 -> 0 | Q62: =$Q$14 -> 0 | S62: =$S$14 -> 0 | U62: =$U$14 -> 0 | W62: =$W$14 -> 0 | Z62: =$Z$14 -> 0
A63: =$A$15 -> 0 | B63: =$B$15 -> 0 | Q63: =$Q$15 -> 0 | S63: =$S$15 -> 0 | U63: =$U$15 -> 0 | W63: =$W$15 -> 0 | Z63: =$Z$15 -> 0
A64: =$A$16 -> 0 | B64: =$B$16 -> 0 | Q64: =$Q$16 -> 0 | S64: =$S$16 -> 0 | U64: =$U$16 -> 0 | W64: =$W$16 -> 0 | Z64: =$Z$16 -> 0
A65: =$A$17 -> 0 | B65: =$B$17 -> 0 | Q65: =$Q$17 -> 0 | S65: =$S$17 -> 0 | U65: =$U$17 -> 0 | W65: =$W$17 -> 0 | Z65: =$Z$17 -> 0
A66: =$A$18 -> 0 | B66: =$B$18 -> 0 | Q66: =$Q$18 -> 0 | S66: =$S$18 -> 0 | U66: =$U$18 -> 0 | W66: =$W$18 -> 0 | Z66: =$Z$18 -> 0
A67: =$A$19 -> 0 | B67: =$B$19 -> 0 | Q67: =$Q$19 -> 0 | S67: =$S$19 -> 0 | U67: =$U$19 -> 0 | W67: =$W$19 -> 0 | Z67: =$Z$19 -> 0
A68: =$A$20 -> 0 | B68: =$B$20 -> 0 | Q68: =$Q$20 -> 0 | S68: =$S$20 -> 0 | U68: =$U$20 -> 0 | W68: =$W$20 -> 0 | Z68: =$Z$20 -> 0
A69: =$A$21 -> 0 | B69: =$B$21 -> 0 | Q69: =$Q$21 -> 0 | S69: =$S$21 -> 0 | U69: =$U$21 -> 0 | W69: =$W$21 -> 0 | Z69: =$Z$21 -> 0
A70: =$A$22 -> 0 | B70: =$B$22 -> 0 | Q70: =$Q$22 -> 0 | S70: =$S$22 -> 0 | U70: =$U$22 -> 0 | W70: =$W$22 -> 0 | Z70: =$Z$22 -> 0
A71: =$A$23 -> 0 | B71: =$B$23 -> 0 | Q71: =$Q$23 -> 0 | S71: =$S$23 -> 0 | U71: =$U$23 -> 0 | W71: =$W$23 -> 0 | Z71: =$Z$23 -> 0
A72: =$A$24 -> 0 | B72: =$B$24 -> 0 | Q72: =$Q$24 -> 0 | S72: =$S$24 -> 0 | U72: =$U$24 -> 0 | W72: =$W$24 -> 0 | Z72: =$Z$24 -> 0
A73: =$A$25 -> 0 | B73: =$B$25 -> 0 | Q73: =$Q$25 -> 0 | S73: =$S$25 -> 0 | U73: =$U$25 -> 0 | W73: =$W$25 -> 0 | Z73: =$Z$25 -> 0
A74: =$A$26 -> 0 | B74: =$B$26 -> 0 | Q74: =$Q$26 -> 0 | S74: =$S$26 -> 0 | U74: =$U$26 -> 0 | W74: =$W$26 -> 0 | Z74: =$Z$26 -> 0
A75: =$A$27 -> 0 | B75: =$B$27 -> 0 | Q75: =$Q$27 -> 0 | S75: =$S$27 -> 0 | U75: =$U$27 -> 0 | W75: =$W$27 -> 0 | Z75: =$Z$27 -> 0
A76: =$A$28 -> 0 | B76: =$B$28 -> 0 | Q76: =$Q$28 -> 0 | S76: =$S$28 -> 0 | U76: =$U$28 -> 0 | W76: =$W$28 -> 0 | Z76: =$Z$28 -> 0
...

Sheet 納品・請求書_8
X1: =請求総括表!$U$1 -> ■■■■■■■■■■■■■■■
I2: 納品・請求書 | X2: =請求総括表!$U$2 -> 年 月 日
I3: 【販売用】 | Q3: (請求者控) | X3: No. | Y3: 8
A5: 株式会社 | F5: 御中 | O5: 請求者 | Q5: 登録番号： | T5: =請求総括表!$U$6 -> 0
A6: --- 営業所を選択してください。 --- | O6: 住所 | Q6: =請求総括表!$R$7 -> 0
A7: 担当者 | G7: 受注番号
A8: 客先名 | O8: 会社名 | Q8: =請求総括表!$R$9 -> 0
A9: 工事先名
A10: 工事場所 | O10: ＴＥＬ | Q10: =ASC(請求総括表!$R$11) | W10: ＦＡＸ | Y10: =ASC(請求総括表!$R$12)
A12: 月/日 | B12: 工事内容 | Q12: 数量 | S12: 単位 | U12: 税率 | W12: 単価 | Z12: 金額(税抜)
A42: 備考 | M42: 税率10% | P42: 小計 | R42: =SUMIFS($Z$13:$Z$40,$U$13:$U$40,"10%") -> 0 | W42: 消費税
M43: 税率 8% | P43: 小計 | R43: =SUMIFS($Z$13:$Z$40,$U$13:$U$40,"8%") -> 0 | W43: 消費税
M44: 非課税 | P44: 小計 | R44: =SUMIFS($Z$13:$Z$40,$U$13:$U$40,"非課税") -> 0
M46: 請求金額（税込） | S46: =SUM($R$42,$Z$42,$R$43,$Z$43,$R$44) -> 0 | AA46: 決裁
X49: =$X$1 -> ■■■■■■■■■■■■■■■
I50: 納品・請求書 | X50: =$X$2 -> 年 月 日
I51: 【販売用】 | Q51: (サンエイ送付用) | X51: No. | Y51: =$Y$3 -> 8
A53: 株式会社 | F53: 御中 | O53: 請求者 | Q53: 登録番号： | T53: =$T$5 -> 0
A54: =$A$6 -> --- 営業所を選択してください。 --- | O54: 住所 | Q54: =$Q$6 -> 0
A55: 担当者 | C55: =$C$7 -> 0 | G55: 受注番号 | J55: =$J$7 -> 0
A56: 客先名 | C56: =$C$8 -> 0 | O56: 会社名 | Q56: =$Q$8 -> 0
A57: 工事先名 | C57: =$C$9 -> 0
A58: 工事場所 | C58: =$C$10 -> 0 | O58: ＴＥＬ | Q58: =$Q$10 | W58: ＦＡＸ | Y58: =$Y$10
A60: 月/日 | B60: 工事内容 | Q60: 数量 | S60: 単位 | U60: 税率 | W60: 単価 | Z60: 金額(税抜)
A61: =$A$13 -> 0 | B61: =$B$13 -> 0 | Q61: =$Q$13 -> 0 | S61: =$S$13 -> 0 | U61: =$U$13 -> 0 | W61: =$W$13 -> 0 | Z61: =$Z$13 -> 0
A62: =$A$14 -> 0 | B62: =$B$14 -> 0 | Q62: =$Q$14 -> 0 | S62: =$S$14 -> 0 | U62: =$U$14 -> 0 | W62: =$W$14 -> 0 | Z62: =$Z$14 -> 0
A63: =$A$15 -> 0 | B63: =$B$15 -> 0 | Q63: =$Q$15 -> 0 | S63: =$S$15 -> 0 | U63: =$U$15 -> 0 | W63: =$W$15 -> 0 | Z63: =$Z$15 -> 0
A64: =$A$16 -> 0 | B64: =$B$16 -> 0 | Q64: =$Q$16 -> 0 | S64: =$S$16 -> 0 | U64: =$U$16 -> 0 | W64: =$W$16 -> 0 | Z64: =$Z$16 -> 0
A65: =$A$17 -> 0 | B65: =$B$17 -> 0 | Q65: =$Q$17 -> 0 | S65: =$S$17 -> 0 | U65: =$U$17 -> 0 | W65: =$W$17 -> 0 | Z65: =$Z$17 -> 0
A66: =$A$18 -> 0 | B66: =$B$18 -> 0 | Q66: =$Q$18 -> 0 | S66: =$S$18 -> 0 | U66: =$U$18 -> 0 | W66: =$W$18 -> 0 | Z66: =$Z$18 -> 0
A67: =$A$19 -> 0 | B67: =$B$19 -> 0 | Q67: =$Q$19 -> 0 | S67: =$S$19 -> 0 | U67: =$U$19 -> 0 | W67: =$W$19 -> 0 | Z67: =$Z$19 -> 0
A68: =$A$20 -> 0 | B68: =$B$20 -> 0 | Q68: =$Q$20 -> 0 | S68: =$S$20 -> 0 | U68: =$U$20 -> 0 | W68: =$W$20 -> 0 | Z68: =$Z$20 -> 0
A69: =$A$21 -> 0 | B69: =$B$21 -> 0 | Q69: =$Q$21 -> 0 | S69: =$S$21 -> 0 | U69: =$U$21 -> 0 | W69: =$W$21 -> 0 | Z69: =$Z$21 -> 0
A70: =$A$22 -> 0 | B70: =$B$22 -> 0 | Q70: =$Q$22 -> 0 | S70: =$S$22 -> 0 | U70: =$U$22 -> 0 | W70: =$W$22 -> 0 | Z70: =$Z$22 -> 0
A71: =$A$23 -> 0 | B71: =$B$23 -> 0 | Q71: =$Q$23 -> 0 | S71: =$S$23 -> 0 | U71: =$U$23 -> 0 | W71: =$W$23 -> 0 | Z71: =$Z$23 -> 0
A72: =$A$24 -> 0 | B72: =$B$24 -> 0 | Q72: =$Q$24 -> 0 | S72: =$S$24 -> 0 | U72: =$U$24 -> 0 | W72: =$W$24 -> 0 | Z72: =$Z$24 -> 0
A73: =$A$25 -> 0 | B73: =$B$25 -> 0 | Q73: =$Q$25 -> 0 | S73: =$S$25 -> 0 | U73: =$U$25 -> 0 | W73: =$W$25 -> 0 | Z73: =$Z$25 -> 0
A74: =$A$26 -> 0 | B74: =$B$26 -> 0 | Q74: =$Q$26 -> 0 | S74: =$S$26 -> 0 | U74: =$U$26 -> 0 | W74: =$W$26 -> 0 | Z74: =$Z$26 -> 0
A75: =$A$27 -> 0 | B75: =$B$27 -> 0 | Q75: =$Q$27 -> 0 | S75: =$S$27 -> 0 | U75: =$U$27 -> 0 | W75: =$W$27 -> 0 | Z75: =$Z$27 -> 0
A76: =$A$28 -> 0 | B76: =$B$28 -> 0 | Q76: =$Q$28 -> 0 | S76: =$S$28 -> 0 | U76: =$U$28 -> 0 | W76: =$W$28 -> 0 | Z76: =$Z$28 -> 0
...

Sheet 納品・請求書_9
X1: =請求総括表!$U$1 -> ■■■■■■■■■■■■■■■
I2: 納品・請求書 | X2: =請求総括表!$U$2 -> 年 月 日
I3: 【販売用】 | Q3: (請求者控) | X3: No. | Y3: 9
A5: 株式会社 | F5: 御中 | O5: 請求者 | Q5: 登録番号： | T5: =請求総括表!$U$6 -> 0
A6: --- 営業所を選択してください。 --- | O6: 住所 | Q6: =請求総括表!$R$7 -> 0
A7: 担当者 | G7: 受注番号
A8: 客先名 | O8: 会社名 | Q8: =請求総括表!$R$9 -> 0
A9: 工事先名
A10: 工事場所 | O10: ＴＥＬ | Q10: =ASC(請求総括表!$R$11) | W10: ＦＡＸ | Y10: =ASC(請求総括表!$R$12)
A12: 月/日 | B12: 工事内容 | Q12: 数量 | S12: 単位 | U12: 税率 | W12: 単価 | Z12: 金額(税抜)
A42: 備考 | M42: 税率10% | P42: 小計 | R42: =SUMIFS($Z$13:$Z$40,$U$13:$U$40,"10%") -> 0 | W42: 消費税
M43: 税率 8% | P43: 小計 | R43: =SUMIFS($Z$13:$Z$40,$U$13:$U$40,"8%") -> 0 | W43: 消費税
M44: 非課税 | P44: 小計 | R44: =SUMIFS($Z$13:$Z$40,$U$13:$U$40,"非課税") -> 0
M46: 請求金額（税込） | S46: =SUM($R$42,$Z$42,$R$43,$Z$43,$R$44) -> 0 | AA46: 決裁
X49: =$X$1 -> ■■■■■■■■■■■■■■■
I50: 納品・請求書 | X50: =$X$2 -> 年 月 日
I51: 【販売用】 | Q51: (サンエイ送付用) | X51: No. | Y51: =$Y$3 -> 9
A53: 株式会社 | F53: 御中 | O53: 請求者 | Q53: 登録番号： | T53: =$T$5 -> 0
A54: =$A$6 -> --- 営業所を選択してください。 --- | O54: 住所 | Q54: =$Q$6 -> 0
A55: 担当者 | C55: =$C$7 -> 0 | G55: 受注番号 | J55: =$J$7 -> 0
A56: 客先名 | C56: =$C$8 -> 0 | O56: 会社名 | Q56: =$Q$8 -> 0
A57: 工事先名 | C57: =$C$9 -> 0
A58: 工事場所 | C58: =$C$10 -> 0 | O58: ＴＥＬ | Q58: =$Q$10 | W58: ＦＡＸ | Y58: =$Y$10
A60: 月/日 | B60: 工事内容 | Q60: 数量 | S60: 単位 | U60: 税率 | W60: 単価 | Z60: 金額(税抜)
A61: =$A$13 -> 0 | B61: =$B$13 -> 0 | Q61: =$Q$13 -> 0 | S61: =$S$13 -> 0 | U61: =$U$13 -> 0 | W61: =$W$13 -> 0 | Z61: =$Z$13 -> 0
A62: =$A$14 -> 0 | B62: =$B$14 -> 0 | Q62: =$Q$14 -> 0 | S62: =$S$14 -> 0 | U62: =$U$14 -> 0 | W62: =$W$14 -> 0 | Z62: =$Z$14 -> 0
A63: =$A$15 -> 0 | B63: =$B$15 -> 0 | Q63: =$Q$15 -> 0 | S63: =$S$15 -> 0 | U63: =$U$15 -> 0 | W63: =$W$15 -> 0 | Z63: =$Z$15 -> 0
A64: =$A$16 -> 0 | B64: =$B$16 -> 0 | Q64: =$Q$16 -> 0 | S64: =$S$16 -> 0 | U64: =$U$16 -> 0 | W64: =$W$16 -> 0 | Z64: =$Z$16 -> 0
A65: =$A$17 -> 0 | B65: =$B$17 -> 0 | Q65: =$Q$17 -> 0 | S65: =$S$17 -> 0 | U65: =$U$17 -> 0 | W65: =$W$17 -> 0 | Z65: =$Z$17 -> 0
A66: =$A$18 -> 0 | B66: =$B$18 -> 0 | Q66: =$Q$18 -> 0 | S66: =$S$18 -> 0 | U66: =$U$18 -> 0 | W66: =$W$18 -> 0 | Z66: =$Z$18 -> 0
A67: =$A$19 -> 0 | B67: =$B$19 -> 0 | Q67: =$Q$19 -> 0 | S67: =$S$19 -> 0 | U67: =$U$19 -> 0 | W67: =$W$19 -> 0 | Z67: =$Z$19 -> 0
A68: =$A$20 -> 0 | B68: =$B$20 -> 0 | Q68: =$Q$20 -> 0 | S68: =$S$20 -> 0 | U68: =$U$20 -> 0 | W68: =$W$20 -> 0 | Z68: =$Z$20 -> 0
A69: =$A$21 -> 0 | B69: =$B$21 -> 0 | Q69: =$Q$21 -> 0 | S69: =$S$21 -> 0 | U69: =$U$21 -> 0 | W69: =$W$21 -> 0 | Z69: =$Z$21 -> 0
A70: =$A$22 -> 0 | B70: =$B$22 -> 0 | Q70: =$Q$22 -> 0 | S70: =$S$22 -> 0 | U70: =$U$22 -> 0 | W70: =$W$22 -> 0 | Z70: =$Z$22 -> 0
A71: =$A$23 -> 0 | B71: =$B$23 -> 0 | Q71: =$Q$23 -> 0 | S71: =$S$23 -> 0 | U71: =$U$23 -> 0 | W71: =$W$23 -> 0 | Z71: =$Z$23 -> 0
A72: =$A$24 -> 0 | B72: =$B$24 -> 0 | Q72: =$Q$24 -> 0 | S72: =$S$24 -> 0 | U72: =$U$24 -> 0 | W72: =$W$24 -> 0 | Z72: =$Z$24 -> 0
A73: =$A$25 -> 0 | B73: =$B$25 -> 0 | Q73: =$Q$25 -> 0 | S73: =$S$25 -> 0 | U73: =$U$25 -> 0 | W73: =$W$25 -> 0 | Z73: =$Z$25 -> 0
A74: =$A$26 -> 0 | B74: =$B$26 -> 0 | Q74: =$Q$26 -> 0 | S74: =$S$26 -> 0 | U74: =$U$26 -> 0 | W74: =$W$26 -> 0 | Z74: =$Z$26 -> 0
A75: =$A$27 -> 0 | B75: =$B$27 -> 0 | Q75: =$Q$27 -> 0 | S75: =$S$27 -> 0 | U75: =$U$27 -> 0 | W75: =$W$27 -> 0 | Z75: =$Z$27 -> 0
A76: =$A$28 -> 0 | B76: =$B$28 -> 0 | Q76: =$Q$28 -> 0 | S76: =$S$28 -> 0 | U76: =$U$28 -> 0 | W76: =$W$28 -> 0 | Z76: =$Z$28 -> 0
...

Sheet 納品・請求書_10
X1: =請求総括表!$U$1 -> ■■■■■■■■■■■■■■■
I2: 納品・請求書 | X2: =請求総括表!$U$2 -> 年 月 日
I3: 【販売用】 | Q3: (請求者控) | X3: No. | Y3: 10
A5: 株式会社 | F5: 御中 | O5: 請求者 | Q5: 登録番号： | T5: =請求総括表!$U$6 -> 0
A6: --- 営業所を選択してください。 --- | O6: 住所 | Q6: =請求総括表!$R$7 -> 0
A7: 担当者 | G7: 受注番号
A8: 客先名 | O8: 会社名 | Q8: =請求総括表!$R$9 -> 0
A9: 工事先名
A10: 工事場所 | O10: ＴＥＬ | Q10: =ASC(請求総括表!$R$11) | W10: ＦＡＸ | Y10: =ASC(請求総括表!$R$12)
A12: 月/日 | B12: 工事内容 | Q12: 数量 | S12: 単位 | U12: 税率 | W12: 単価 | Z12: 金額(税抜)
A42: 備考 | M42: 税率10% | P42: 小計 | R42: =SUMIFS($Z$13:$Z$40,$U$13:$U$40,"10%") -> 0 | W42: 消費税
M43: 税率 8% | P43: 小計 | R43: =SUMIFS($Z$13:$Z$40,$U$13:$U$40,"8%") -> 0 | W43: 消費税
M44: 非課税 | P44: 小計 | R44: =SUMIFS($Z$13:$Z$40,$U$13:$U$40,"非課税") -> 0
M46: 請求金額（税込） | S46: =SUM($R$42,$Z$42,$R$43,$Z$43,$R$44) -> 0 | AA46: 決裁
X49: =$X$1 -> ■■■■■■■■■■■■■■■
I50: 納品・請求書 | X50: =$X$2 -> 年 月 日
I51: 【販売用】 | Q51: (サンエイ送付用) | X51: No. | Y51: =$Y$3 -> 10
A53: 株式会社 | F53: 御中 | O53: 請求者 | Q53: 登録番号： | T53: =$T$5 -> 0
A54: =$A$6 -> --- 営業所を選択してください。 --- | O54: 住所 | Q54: =$Q$6 -> 0
A55: 担当者 | C55: =$C$7 -> 0 | G55: 受注番号 | J55: =$J$7 -> 0
A56: 客先名 | C56: =$C$8 -> 0 | O56: 会社名 | Q56: =$Q$8 -> 0
A57: 工事先名 | C57: =$C$9 -> 0
A58: 工事場所 | C58: =$C$10 -> 0 | O58: ＴＥＬ | Q58: =$Q$10 | W58: ＦＡＸ | Y58: =$Y$10
A60: 月/日 | B60: 工事内容 | Q60: 数量 | S60: 単位 | U60: 税率 | W60: 単価 | Z60: 金額(税抜)
A61: =$A$13 -> 0 | B61: =$B$13 -> 0 | Q61: =$Q$13 -> 0 | S61: =$S$13 -> 0 | U61: =$U$13 -> 0 | W61: =$W$13 -> 0 | Z61: =$Z$13 -> 0
A62: =$A$14 -> 0 | B62: =$B$14 -> 0 | Q62: =$Q$14 -> 0 | S62: =$S$14 -> 0 | U62: =$U$14 -> 0 | W62: =$W$14 -> 0 | Z62: =$Z$14 -> 0
A63: =$A$15 -> 0 | B63: =$B$15 -> 0 | Q63: =$Q$15 -> 0 | S63: =$S$15 -> 0 | U63: =$U$15 -> 0 | W63: =$W$15 -> 0 | Z63: =$Z$15 -> 0
A64: =$A$16 -> 0 | B64: =$B$16 -> 0 | Q64: =$Q$16 -> 0 | S64: =$S$16 -> 0 | U64: =$U$16 -> 0 | W64: =$W$16 -> 0 | Z64: =$Z$16 -> 0
A65: =$A$17 -> 0 | B65: =$B$17 -> 0 | Q65: =$Q$17 -> 0 | S65: =$S$17 -> 0 | U65: =$U$17 -> 0 | W65: =$W$17 -> 0 | Z65: =$Z$17 -> 0
A66: =$A$18 -> 0 | B66: =$B$18 -> 0 | Q66: =$Q$18 -> 0 | S66: =$S$18 -> 0 | U66: =$U$18 -> 0 | W66: =$W$18 -> 0 | Z66: =$Z$18 -> 0
A67: =$A$19 -> 0 | B67: =$B$19 -> 0 | Q67: =$Q$19 -> 0 | S67: =$S$19 -> 0 | U67: =$U$19 -> 0 | W67: =$W$19 -> 0 | Z67: =$Z$19 -> 0
A68: =$A$20 -> 0 | B68: =$B$20 -> 0 | Q68: =$Q$20 -> 0 | S68: =$S$20 -> 0 | U68: =$U$20 -> 0 | W68: =$W$20 -> 0 | Z68: =$Z$20 -> 0
A69: =$A$21 -> 0 | B69: =$B$21 -> 0 | Q69: =$Q$21 -> 0 | S69: =$S$21 -> 0 | U69: =$U$21 -> 0 | W69: =$W$21 -> 0 | Z69: =$Z$21 -> 0
A70: =$A$22 -> 0 | B70: =$B$22 -> 0 | Q70: =$Q$22 -> 0 | S70: =$S$22 -> 0 | U70: =$U$22 -> 0 | W70: =$W$22 -> 0 | Z70: =$Z$22 -> 0
A71: =$A$23 -> 0 | B71: =$B$23 -> 0 | Q71: =$Q$23 -> 0 | S71: =$S$23 -> 0 | U71: =$U$23 -> 0 | W71: =$W$23 -> 0 | Z71: =$Z$23 -> 0
A72: =$A$24 -> 0 | B72: =$B$24 -> 0 | Q72: =$Q$24 -> 0 | S72: =$S$24 -> 0 | U72: =$U$24 -> 0 | W72: =$W$24 -> 0 | Z72: =$Z$24 -> 0
A73: =$A$25 -> 0 | B73: =$B$25 -> 0 | Q73: =$Q$25 -> 0 | S73: =$S$25 -> 0 | U73: =$U$25 -> 0 | W73: =$W$25 -> 0 | Z73: =$Z$25 -> 0
A74: =$A$26 -> 0 | B74: =$B$26 -> 0 | Q74: =$Q$26 -> 0 | S74: =$S$26 -> 0 | U74: =$U$26 -> 0 | W74: =$W$26 -> 0 | Z74: =$Z$26 -> 0
A75: =$A$27 -> 0 | B75: =$B$27 -> 0 | Q75: =$Q$27 -> 0 | S75: =$S$27 -> 0 | U75: =$U$27 -> 0 | W75: =$W$27 -> 0 | Z75: =$Z$27 -> 0
A76: =$A$28 -> 0 | B76: =$B$28 -> 0 | Q76: =$Q$28 -> 0 | S76: =$S$28 -> 0 | U76: =$U$28 -> 0 | W76: =$W$28 -> 0 | Z76: =$Z$28 -> 0
...
