Workbook

Sheet 当社支払条件
A1: 当 社 支 払 条 件
A4: 当社の支払条件は、原則として『半金半手(手形分電子記録債権)』『月末締・翌月末払』となっております。
A5: 詳細は下記の様になっておりますので、ご請求の際には各事項を必ずお守り下さい。
C7: 支 払 方 法 | K7: ①８０万円未満（税込）：全額現金（銀行振込）
K8: ８０万円以上（税込）：半金半手（手形分電子記録債権、支払サイト９５日）
K10: ②全額現金支払いをご希望の場合
K11: 請求額が８０万円以上（税込）・・・手形金額分の１％を控除
L12: 【例】請求額 | S12: ９００,０００円（手形金額４５０,０００円）
S13: ４５０,０００円×１％＝４,５００円控除
K15: ※振込手数料、でんさい発行手数料は貴社負担となりますので、ご了承ください。
C17: 賦金（労働保険）控除
K18: 建設工事現場におきましては、元請業者が全ての下請業者の労災補償を
K19: することが労働基準法で義務付けられております。
K20: その労働保険料として請求金額（税込）の0.2％を控除させて頂きます。
C22: 請 求 時 指 定 事 項
E23: 1 | F23: . | G23: 当社指定請求書で請求のこと
G24: 弊社ホームページよりＰＣ入力用の請求書（Excel形式）がダウンロード出来ますので
G25: 下記よりダウンロードしてご使用下さい。
J26: https://www.sanei-prefab.co.jp/download/
G27: ※入力見本がございますのでご確認の上、作成をお願いいたします。
G29: ＰＣ入力用の請求書（Excel形式）の作成が難しい場合は、手書き用請求書をダウンロード
G30: してご使用ください。
G31: 手書き用請求書をダウンロードできない場合は、手書き用請求書の原紙をお送りしますので
G32: 営業所までご連絡ください。
E33: 2 | F33: ． | G33: 請求書締日 | N33: 毎月末日
E34: 3 | F34: ． | G34: 請求書必着日 | N34: 翌月３日（休日の場合は翌営業日）
N35: ※必着日を過ぎて届いた場合は処理の都合上、次月請求扱いとなります。
N36: ※決算の都合上、12月末締分は必着日を過ぎた場合お支払い致しかねます。
E37: 4 | F37: ． | G37: 支払日 | N37: 翌月末日 | S37: （午前１０時～午後５時） | AC37: 土日･祝祭日の場合は前日になります。
E38: 5 | F38: ． | G38: 工事完了月の翌月も請求書が提出されない場合は、お支払い致しかねます。
E39: 6 | F39: ． | G39: 請求書は該当する営業所に送付して下さい。
G40: 総支払に関しては本社へお問い合わせ下さい。
B45: 本社 | I45: 〒 | J45: 336 | L45: - | M45: 0022 | P45: さいたま市南区白幡５－１６－８ ３Ｆ | AH45: ☎ | AJ45: 048 865 4111
AH46: FAX | AJ46: 865 4811
B47: 川越営業所 | I47: 〒 | J47: 350 | L47: - | M47: 1124 | P47: 川越市新宿町３－１７－３３ | AH47: ☎ | AJ47: 049 246 4111
AH48: FAX | AJ48: 240 2744
B49: 浦和営業所 | I49: 〒 | J49: 336 | L49: - | M49: 0022 | P49: さいたま市南区白幡５－１６－８ ２Ｆ | AH49: ☎ | AJ49: 048 865 4511
AH50: FAX | AJ50: 865 4911
B51: 千葉営業所 | I51: 〒 | J51: 262 | L51: - | M51: 0033 | P51: 千葉市花見川区幕張本郷１－１１－２６ | AH51: ☎ | AJ51: 043 272 0700
P52: リビエール本郷２０４号 | AH52: FAX | AJ52: 272 0704
...

Sheet 請求総括表
U1: =IF($U$6="","■■■■■■■■■■■■■■■","") -> ■■■■■■■■■■■■■■■
U2: 年 月 日
G3: 請求総括表
S4: 【レンタル用】(請求者控）
O6: 請求者 | R6: 登録番号：
O7: 住所
J8: 御中
O9: 会社名
A11: 川越 | B11: 浦和 | C11: 千葉 | D11: 相模原 | E11: 茨城 | F11: 立川 | G11: 横浜 | H11: 東京 | K11: 本社 | O11: ＴＥＬ
O12: ＦＡＸ
A14: 下記の通りご請求申し上げます。
B16: 担当者 | F16: 消費税10％分 | L16: 消費税 8％分 | R16: 非課税分 | U16: 摘要
F17: 小計 | I17: 消費税 | L17: 小計 | O17: 消費税 | R17: 小計
A18: 1 | B18: =納品・請求書_1!$B$7 -> 0 | F18: =納品・請求書_1!$J$43 -> 0 | I18: =納品・請求書_1!$O$43 -> 0 | L18: =納品・請求書_1!$J$44 -> 0 | O18: =納品・請求書_1!$O$44 -> 0 | R18: =納品・請求書_1!$J$45 -> 0
A19: 2 | B19: =納品・請求書_2!$B$7 -> 0 | F19: =納品・請求書_2!$J$43 -> 0 | I19: =納品・請求書_2!$O$43 -> 0 | L19: =納品・請求書_2!$J$44 -> 0 | O19: =納品・請求書_2!$O$44 -> 0 | R19: =納品・請求書_2!$J$45 -> 0
A20: 3 | B20: =納品・請求書_3!$B$7 -> 0 | F20: =納品・請求書_3!$J$43 -> 0 | I20: =納品・請求書_3!$O$43 -> 0 | L20: =納品・請求書_3!$J$44 -> 0 | O20: =納品・請求書_3!$O$44 -> 0 | R20: =納品・請求書_3!$J$45 -> 0
A21: 4 | B21: =納品・請求書_4!$B$7 -> 0 | F21: =納品・請求書_4!$J$43 -> 0 | I21: =納品・請求書_4!$O$43 -> 0 | L21: =納品・請求書_4!$J$44 -> 0 | O21: =納品・請求書_4!$O$44 -> 0 | R21: =納品・請求書_4!$J$45 -> 0
A22: 5 | B22: =納品・請求書_5!$B$7 -> 0 | F22: =納品・請求書_5!$J$43 -> 0 | I22: =納品・請求書_5!$O$43 -> 0 | L22: =納品・請求書_5!$J$44 -> 0 | O22: =納品・請求書_5!$O$44 -> 0 | R22: =納品・請求書_5!$J$45 -> 0
A23: 6 | B23: =納品・請求書_6!$B$7 -> 0 | F23: =納品・請求書_6!$J$43 -> 0 | I23: =納品・請求書_6!$O$43 -> 0 | L23: =納品・請求書_6!$J$44 -> 0 | O23: =納品・請求書_6!$O$44 -> 0 | R23: =納品・請求書_6!$J$45 -> 0
A24: 7 | B24: =納品・請求書_7!$B$7 -> 0 | F24: =納品・請求書_7!$J$43 -> 0 | I24: =納品・請求書_7!$O$43 -> 0 | L24: =納品・請求書_7!$J$44 -> 0 | O24: =納品・請求書_7!$O$44 -> 0 | R24: =納品・請求書_7!$J$45 -> 0
A25: 8 | B25: =納品・請求書_8!$B$7 -> 0 | F25: =納品・請求書_8!$J$43 -> 0 | I25: =納品・請求書_8!$O$43 -> 0 | L25: =納品・請求書_8!$J$44 -> 0 | O25: =納品・請求書_8!$O$44 -> 0 | R25: =納品・請求書_8!$J$45 -> 0
A26: 9 | B26: =納品・請求書_9!$B$7 -> 0 | F26: =納品・請求書_9!$J$43 -> 0 | I26: =納品・請求書_9!$O$43 -> 0 | L26: =納品・請求書_9!$J$44 -> 0 | O26: =納品・請求書_9!$O$44 -> 0 | R26: =納品・請求書_9!$J$45 -> 0
A27: 10 | B27: =納品・請求書_10!$B$7 -> 0 | F27: =納品・請求書_10!$J$43 -> 0 | I27: =納品・請求書_10!$O$43 -> 0 | L27: =納品・請求書_10!$J$44 -> 0 | O27: =納品・請求書_10!$O$44 -> 0 | R27: =納品・請求書_10!$J$45 -> 0
A28: 請求金額 計 | F28: =SUM($F$18:$H$27) -> 0 | I28: =SUM($I$18:$K$27) -> 0 | L28: =SUM($L$18:$N$27) -> 0 | O28: =SUM($O$18:$Q$27) -> 0 | R28: =SUM($R$18:$T$27) -> 0 | U28: =SUM($F$28:$T$28) -> 0
A30: 備考
U32: 総括表 | W32: 計 算 | Y32: 締 月
B33: 請求時指定事項
B34: ① | C34: 締日 | G34: 毎月末日
B35: ② | C35: 必着日 | G35: 翌月３日（休日の場合は翌営業日）
G36: ※必着日を過ぎて届いた場合は処理の都合上、次月請求扱いとなります。
G37: ※１２月決算月の為、未請求の場合にはお支払い致しかねます。
B38: ③ | C38: 支払日 | G38: 翌月末日 | J38: （午前１０時～午後５時）
B39: ④ | C39: 工事完了月の翌月も請求総括表および納品・請求書が提出されない場合は、お支払い致しかねます。
B40: ⑤ | C40: 請求総括表および納品・請求書は、該当する営業所に送付して下さい。
P42: 総支払に関してのお問合せ
P43: 本社 | S43: さいたま市南区白幡5-16-8 3F
P44: 電話番号 | S44: 048-865-4111
U45: =$U$1 -> ■■■■■■■■■■■■■■■
U46: =$U$2 -> 年 月 日
G47: 請求総括表
...

Sheet 納品・請求書_1
M1: =請求総括表!$U$1 -> ■■■■■■■■■■■■■■■
E2: 納品・請求書 | M2: =請求総括表!$U$2 -> 年 月 日
E3: 【レンタル用】 | H3: (請求者控) | M3: No. | N3: 1
A5: 株式会社 | D5: 御中 | G5: 請求者 | H5: 登録番号： | J5: =請求総括表!$U$6 -> 0
A6: - 営業所を選択してください。- | G6: 住 所 | H6: =請求総括表!$R$7 -> 0
A7: 担当者
G8: 会社名 | H8: =請求総括表!$R$9 -> 0
G10: ＴＥＬ | H10: =ASC(請求総括表!$R$11) | L10: ＦＡＸ | N10: =ASC(請求総括表!$R$12)
A12: 受注番号 | B12: 客先 | E12: 住所 | F12: 品名 | H12: 期間 | K12: 数量 | L12: 税率 | M12: 金額(税抜) | P12: 撤去 日 | Q12: 検
B13: 工事先名
A43: 備考 | G43: 税率10% | H43: 小計 | J43: =SUMIFS($M$13:$M$40,$L$13:$L$40,"10%") -> 0 | M43: 消費税
G44: 税率 8% | H44: 小計 | J44: =SUMIFS($M$13:$M$40,$L$13:$L$40,"8%") -> 0 | M44: 消費税
G45: 非課税 | H45: 小計 | J45: =SUMIFS($M$13:$M$40,$L$13:$L$40,"非課税") -> 0
G47: 請求金額（税込） | J47: =SUM($J$43,$O$43,$J$44,$O$44,$J$45) -> 0 | P47: 決裁
M50: =$M$1 -> ■■■■■■■■■■■■■■■
E51: 納品・請求書 | M51: =$M$2 -> 年 月 日
E52: 【レンタル用】 | H52: (サンエイ送付用) | M52: No. | N52: =$N$3 -> 1
A54: 株式会社 | D54: 御中 | G54: 請求者 | H54: 登録番号： | J54: =$J$5 -> 0
A55: =$A$6 -> - 営業所を選択してください。- | G55: 住 所 | H55: =$H$6 -> 0
A56: 担当者 | B56: =$B$7 -> 0
G57: 会社名 | H57: =$H$8 -> 0
G59: ＴＥＬ | H59: =$H$10 | L59: ＦＡＸ | N59: =$N$10
A61: 受注番号 | B61: 客先 | E61: 住所 | F61: 品名 | H61: 期間 | K61: 数量 | L61: 税率 | M61: 金額(税抜) | P61: 撤去 日 | Q61: 検
B62: 工事先名
A63: =$A$14 -> 0 | B63: =$B$14 -> 0 | E63: =$E$14 -> 0 | F63: =$F$14 -> 0 | H63: =$H$14 -> 0 | I63: =$I$14 -> 0 | J63: =$J$14 -> 0 | K63: =$K$14 -> 0 | L63: =$L$14 -> 0 | M63: =$M$14 -> 0 | P63: =$P$14 -> 0
A64: =$A$15 -> 0 | B64: =$B$15 -> 0 | H64: =$H$15 -> 0 | I64: =$I$15 -> 0 | J64: =$J$15 -> 0
A65: =$A$16 -> 0 | B65: =$B$16 -> 0 | E65: =$E$16 -> 0 | F65: =$F$16 -> 0 | H65: =$H$16 -> 0 | I65: =$I$16 -> 0 | J65: =$J$16 -> 0 | K65: =$K$16 -> 0 | L65: =$L$16 -> 0 | M65: =$M$16 -> 0 | P65: =$P$16 -> 0
A66: =$A$17 -> 0 | B66: =$B$17 -> 0 | H66: =$H$17 -> 0 | I66: =$I$17 -> 0 | J66: =$J$17 -> 0
A67: =$A$18 -> 0 | B67: =$B$18 -> 0 | E67: =$E$18 -> 0 | F67: =$F$18 -> 0 | H67: =$H$18 -> 0 | I67: =$I$18 -> 0 | J67: =$J$18 -> 0 | K67: =$K$18 -> 0 | L67: =$L$18 -> 0 | M67: =$M$18 -> 0 | P67: =$P$18 -> 0
A68: =$A$19 -> 0 | B68: =$B$19 -> 0 | H68: =$H$19 -> 0 | I68: =$I$19 -> 0 | J68: =$J$19 -> 0
A69: =$A$20 -> 0 | B69: =$B$20 -> 0 | E69: =$E$20 -> 0 | F69: =$F$20 -> 0 | H69: =$H$20 -> 0 | I69: =$I$20 -> 0 | J69: =$J$20 -> 0 | K69: =$K$20 -> 0 | L69: =$L$20 -> 0 | M69: =$M$20 -> 0 | P69: =$P$20 -> 0
A70: =$A$21 -> 0 | B70: =$B$21 -> 0 | H70: =$H$21 -> 0 | I70: =$I$21 -> 0 | J70: =$J$21 -> 0
A71: =$A$22 -> 0 | B71: =$B$22 -> 0 | E71: =$E$22 -> 0 | F71: =$F$22 -> 0 | H71: =$H$22 -> 0 | I71: =$I$22 -> 0 | J71: =$J$22 -> 0 | K71: =$K$22 -> 0 | L71: =$L$22 -> 0 | M71: =$M$22 -> 0 | P71: =$P$22 -> 0
A72: =$A$23 -> 0 | B72: =$B$23 -> 0 | H72: =$H$23 -> 0 | I72: =$I$23 -> 0 | J72: =$J$23 -> 0
A73: =$A$24 -> 0 | B73: =$B$24 -> 0 | E73: =$E$24 -> 0 | F73: =$F$24 -> 0 | H73: =$H$24 -> 0 | I73: =$I$24 -> 0 | J73: =$J$24 -> 0 | K73: =$K$24 -> 0 | L73: =$L$24 -> 0 | M73: =$M$24 -> 0 | P73: =$P$24 -> 0
A74: =$A$25 -> 0 | B74: =$B$25 -> 0 | H74: =$H$25 -> 0 | I74: =$I$25 -> 0 | J74: =$J$25 -> 0
A75: =$A$26 -> 0 | B75: =$B$26 -> 0 | E75: =$E$26 -> 0 | F75: =$F$26 -> 0 | H75: =$H$26 -> 0 | I75: =$I$26 -> 0 | J75: =$J$26 -> 0 | K75: =$K$26 -> 0 | L75: =$L$26 -> 0 | M75: =$M$26 -> 0 | P75: =$P$26 -> 0
A76: =$A$27 -> 0 | B76: =$B$27 -> 0 | H76: =$H$27 -> 0 | I76: =$I$27 -> 0 | J76: =$J$27 -> 0
A77: =$A$28 -> 0 | B77: =$B$28 -> 0 | E77: =$E$28 -> 0 | F77: =$F$28 -> 0 | H77: =$H$28 -> 0 | I77: =$I$28 -> 0 | J77: =$J$28 -> 0 | K77: =$K$28 -> 0 | L77: =$L$28 -> 0 | M77: =$M$28 -> 0 | P77: =$P$28 -> 0
A78: =$A$29 -> 0 | B78: =$B$29 -> 0 | H78: =$H$29 -> 0 | I78: =$I$29 -> 0 | J78: =$J$29 -> 0
...

Sheet 納品・請求書_2
M1: =請求総括表!$U$1 -> ■■■■■■■■■■■■■■■
E2: 納品・請求書 | M2: =請求総括表!$U$2 -> 年 月 日
E3: 【レンタル用】 | H3: (請求者控) | M3: No. | N3: 2
A5: 株式会社 | D5: 御中 | G5: 請求者 | H5: 登録番号： | J5: =請求総括表!$U$6 -> 0
A6: - 営業所を選択してください。- | G6: 住 所 | H6: =請求総括表!$R$7 -> 0
A7: 担当者
G8: 会社名 | H8: =請求総括表!$R$9 -> 0
G10: ＴＥＬ | H10: =ASC(請求総括表!$R$11) | L10: ＦＡＸ | N10: =ASC(請求総括表!$R$12)
A12: 受注番号 | B12: 客先 | E12: 住所 | F12: 品名 | H12: 期間 | K12: 数量 | L12: 税率 | M12: 金額(税抜) | P12: 撤去 日 | Q12: 検
B13: 工事先名
A43: 備考 | G43: 税率10% | H43: 小計 | J43: =SUMIFS($M$13:$M$40,$L$13:$L$40,"10%") -> 0 | M43: 消費税
G44: 税率 8% | H44: 小計 | J44: =SUMIFS($M$13:$M$40,$L$13:$L$40,"8%") -> 0 | M44: 消費税
G45: 非課税 | H45: 小計 | J45: =SUMIFS($M$13:$M$40,$L$13:$L$40,"非課税") -> 0
G47: 請求金額（税込） | J47: =SUM($J$43,$O$43,$J$44,$O$44,$J$45) -> 0 | P47: 決裁
M50: =$M$1 -> ■■■■■■■■■■■■■■■
E51: 納品・請求書 | M51: =$M$2 -> 年 月 日
E52: 【レンタル用】 | H52: (サンエイ送付用) | M52: No. | N52: =$N$3 -> 2
A54: 株式会社 | D54: 御中 | G54: 請求者 | H54: 登録番号： | J54: =$J$5 -> 0
A55: =$A$6 -> - 営業所を選択してください。- | G55: 住 所 | H55: =$H$6 -> 0
A56: 担当者 | B56: =$B$7 -> 0
G57: 会社名 | H57: =$H$8 -> 0
G59: ＴＥＬ | H59: =$H$10 | L59: ＦＡＸ | N59: =$N$10
A61: 受注番号 | B61: 客先 | E61: 住所 | F61: 品名 | H61: 期間 | K61: 数量 | L61: 税率 | M61: 金額(税抜) | P61: 撤去 日 | Q61: 検
B62: 工事先名
A63: =$A$14 -> 0 | B63: =$B$14 -> 0 | E63: =$E$14 -> 0 | F63: =$F$14 -> 0 | H63: =$H$14 -> 0 | I63: =$I$14 -> 0 | J63: =$J$14 -> 0 | K63: =$K$14 -> 0 | L63: =$L$14 -> 0 | M63: =$M$14 -> 0 | P63: =$P$14 -> 0
A64: =$A$15 -> 0 | B64: =$B$15 -> 0 | H64: =$H$15 -> 0 | I64: =$I$15 -> 0 | J64: =$J$15 -> 0
A65: =$A$16 -> 0 | B65: =$B$16 -> 0 | E65: =$E$16 -> 0 | F65: =$F$16 -> 0 | H65: =$H$16 -> 0 | I65: =$I$16 -> 0 | J65: =$J$16 -> 0 | K65: =$K$16 -> 0 | L65: =$L$16 -> 0 | M65: =$M$16 -> 0 | P65: =$P$16 -> 0
A66: =$A$17 -> 0 | B66: =$B$17 -> 0 | H66: =$H$17 -> 0 | I66: =$I$17 -> 0 | J66: =$J$17 -> 0
A67: =$A$18 -> 0 | B67: =$B$18 -> 0 | E67: =$E$18 -> 0 | F67: =$F$18 -> 0 | H67: =$H$18 -> 0 | I67: =$I$18 -> 0 | J67: =$J$18 -> 0 | K67: =$K$18 -> 0 | L67: =$L$18 -> 0 | M67: =$M$18 -> 0 | P67: =$P$18 -> 0
A68: =$A$19 -> 0 | B68: =$B$19 -> 0 | H68: =$H$19 -> 0 | I68: =$I$19 -> 0 | J68: =$J$19 -> 0
A69: =$A$20 -> 0 | B69: =$B$20 -> 0 | E69: =$E$20 -> 0 | F69: =$F$20 -> 0 | H69: =$H$20 -> 0 | I69: =$I$20 -> 0 | J69: =$J$20 -> 0 | K69: =$K$20 -> 0 | L69: =$L$20 -> 0 | M69: =$M$20 -> 0 | P69: =$P$20 -> 0
A70: =$A$21 -> 0 | B70: =$B$21 -> 0 | H70: =$H$21 -> 0 | I70: =$I$21 -> 0 | J70: =$J$21 -> 0
A71: =$A$22 -> 0 | B71: =$B$22 -> 0 | E71: =$E$22 -> 0 | F71: =$F$22 -> 0 | H71: =$H$22 -> 0 | I71: =$I$22 -> 0 | J71: =$J$22 -> 0 | K71: =$K$22 -> 0 | L71: =$L$22 -> 0 | M71: =$M$22 -> 0 | P71: =$P$22 -> 0
A72: =$A$23 -> 0 | B72: =$B$23 -> 0 | H72: =$H$23 -> 0 | I72: =$I$23 -> 0 | J72: =$J$23 -> 0
A73: =$A$24 -> 0 | B73: =$B$24 -> 0 | E73: =$E$24 -> 0 | F73: =$F$24 -> 0 | H73: =$H$24 -> 0 | I73: =$I$24 -> 0 | J73: =$J$24 -> 0 | K73: =$K$24 -> 0 | L73: =$L$24 -> 0 | M73: =$M$24 -> 0 | P73: =$P$24 -> 0
A74: =$A$25 -> 0 | B74: =$B$25 -> 0 | H74: =$H$25 -> 0 | I74: =$I$25 -> 0 | J74: =$J$25 -> 0
A75: =$A$26 -> 0 | B75: =$B$26 -> 0 | E75: =$E$26 -> 0 | F75: =$F$26 -> 0 | H75: =$H$26 -> 0 | I75: =$I$26 -> 0 | J75: =$J$26 -> 0 | K75: =$K$26 -> 0 | L75: =$L$26 -> 0 | M75: =$M$26 -> 0 | P75: =$P$26 -> 0
A76: =$A$27 -> 0 | B76: =$B$27 -> 0 | H76: =$H$27 -> 0 | I76: =$I$27 -> 0 | J76: =$J$27 -> 0
A77: =$A$28 -> 0 | B77: =$B$28 -> 0 | E77: =$E$28 -> 0 | F77: =$F$28 -> 0 | H77: =$H$28 -> 0 | I77: =$I$28 -> 0 | J77: =$J$28 -> 0 | K77: =$K$28 -> 0 | L77: =$L$28 -> 0 | M77: =$M$28 -> 0 | P77: =$P$28 -> 0
A78: =$A$29 -> 0 | B78: =$B$29 -> 0 | H78: =$H$29 -> 0 | I78: =$I$29 -> 0 | J78: =$J$29 -> 0
...

Sheet 納品・請求書_3
M1: =請求総括表!$U$1 -> ■■■■■■■■■■■■■■■
E2: 納品・請求書 | M2: =請求総括表!$U$2 -> 年 月 日
E3: 【レンタル用】 | H3: (請求者控) | M3: No. | N3: 3
A5: 株式会社 | D5: 御中 | G5: 請求者 | H5: 登録番号： | J5: =請求総括表!$U$6 -> 0
A6: - 営業所を選択してください。- | G6: 住 所 | H6: =請求総括表!$R$7 -> 0
A7: 担当者
G8: 会社名 | H8: =請求総括表!$R$9 -> 0
G10: ＴＥＬ | H10: =ASC(請求総括表!$R$11) | L10: ＦＡＸ | N10: =ASC(請求総括表!$R$12)
A12: 受注番号 | B12: 客先 | E12: 住所 | F12: 品名 | H12: 期間 | K12: 数量 | L12: 税率 | M12: 金額(税抜) | P12: 撤去 日 | Q12: 検
B13: 工事先名
A43: 備考 | G43: 税率10% | H43: 小計 | J43: =SUMIFS($M$13:$M$40,$L$13:$L$40,"10%") -> 0 | M43: 消費税
G44: 税率 8% | H44: 小計 | J44: =SUMIFS($M$13:$M$40,$L$13:$L$40,"8%") -> 0 | M44: 消費税
G45: 非課税 | H45: 小計 | J45: =SUMIFS($M$13:$M$40,$L$13:$L$40,"非課税") -> 0
G47: 請求金額（税込） | J47: =SUM($J$43,$O$43,$J$44,$O$44,$J$45) -> 0 | P47: 決裁
M50: =$M$1 -> ■■■■■■■■■■■■■■■
E51: 納品・請求書 | M51: =$M$2 -> 年 月 日
E52: 【レンタル用】 | H52: (サンエイ送付用) | M52: No. | N52: =$N$3 -> 3
A54: 株式会社 | D54: 御中 | G54: 請求者 | H54: 登録番号： | J54: =$J$5 -> 0
A55: =$A$6 -> - 営業所を選択してください。- | G55: 住 所 | H55: =$H$6 -> 0
A56: 担当者 | B56: =$B$7 -> 0
G57: 会社名 | H57: =$H$8 -> 0
G59: ＴＥＬ | H59: =$H$10 | L59: ＦＡＸ | N59: =$N$10
A61: 受注番号 | B61: 客先 | E61: 住所 | F61: 品名 | H61: 期間 | K61: 数量 | L61: 税率 | M61: 金額(税抜) | P61: 撤去 日 | Q61: 検
B62: 工事先名
A63: =$A$14 -> 0 | B63: =$B$14 -> 0 | E63: =$E$14 -> 0 | F63: =$F$14 -> 0 | H63: =$H$14 -> 0 | I63: =$I$14 -> 0 | J63: =$J$14 -> 0 | K63: =$K$14 -> 0 | L63: =$L$14 -> 0 | M63: =$M$14 -> 0 | P63: =$P$14 -> 0
A64: =$A$15 -> 0 | B64: =$B$15 -> 0 | H64: =$H$15 -> 0 | I64: =$I$15 -> 0 | J64: =$J$15 -> 0
A65: =$A$16 -> 0 | B65: =$B$16 -> 0 | E65: =$E$16 -> 0 | F65: =$F$16 -> 0 | H65: =$H$16 -> 0 | I65: =$I$16 -> 0 | J65: =$J$16 -> 0 | K65: =$K$16 -> 0 | L65: =$L$16 -> 0 | M65: =$M$16 -> 0 | P65: =$P$16 -> 0
A66: =$A$17 -> 0 | B66: =$B$17 -> 0 | H66: =$H$17 -> 0 | I66: =$I$17 -> 0 | J66: =$J$17 -> 0
A67: =$A$18 -> 0 | B67: =$B$18 -> 0 | E67: =$E$18 -> 0 | F67: =$F$18 -> 0 | H67: =$H$18 -> 0 | I67: =$I$18 -> 0 | J67: =$J$18 -> 0 | K67: =$K$18 -> 0 | L67: =$L$18 -> 0 | M67: =$M$18 -> 0 | P67: =$P$18 -> 0
A68: =$A$19 -> 0 | B68: =$B$19 -> 0 | H68: =$H$19 -> 0 | I68: =$I$19 -> 0 | J68: =$J$19 -> 0
A69: =$A$20 -> 0 | B69: =$B$20 -> 0 | E69: =$E$20 -> 0 | F69: =$F$20 -> 0 | H69: =$H$20 -> 0 | I69: =$I$20 -> 0 | J69: =$J$20 -> 0 | K69: =$K$20 -> 0 | L69: =$L$20 -> 0 | M69: =$M$20 -> 0 | P69: =$P$20 -> 0
A70: =$A$21 -> 0 | B70: =$B$21 -> 0 | H70: =$H$21 -> 0 | I70: =$I$21 -> 0 | J70: =$J$21 -> 0
A71: =$A$22 -> 0 | B71: =$B$22 -> 0 | E71: =$E$22 -> 0 | F71: =$F$22 -> 0 | H71: =$H$22 -> 0 | I71: =$I$22 -> 0 | J71: =$J$22 -> 0 | K71: =$K$22 -> 0 | L71: =$L$22 -> 0 | M71: =$M$22 -> 0 | P71: =$P$22 -> 0
A72: =$A$23 -> 0 | B72: =$B$23 -> 0 | H72: =$H$23 -> 0 | I72: =$I$23 -> 0 | J72: =$J$23 -> 0
A73: =$A$24 -> 0 | B73: =$B$24 -> 0 | E73: =$E$24 -> 0 | F73: =$F$24 -> 0 | H73: =$H$24 -> 0 | I73: =$I$24 -> 0 | J73: =$J$24 -> 0 | K73: =$K$24 -> 0 | L73: =$L$24 -> 0 | M73: =$M$24 -> 0 | P73: =$P$24 -> 0
A74: =$A$25 -> 0 | B74: =$B$25 -> 0 | H74: =$H$25 -> 0 | I74: =$I$25 -> 0 | J74: =$J$25 -> 0
A75: =$A$26 -> 0 | B75: =$B$26 -> 0 | E75: =$E$26 -> 0 | F75: =$F$26 -> 0 | H75: =$H$26 -> 0 | I75: =$I$26 -> 0 | J75: =$J$26 -> 0 | K75: =$K$26 -> 0 | L75: =$L$26 -> 0 | M75: =$M$26 -> 0 | P75: =$P$26 -> 0
A76: =$A$27 -> 0 | B76: =$B$27 -> 0 | H76: =$H$27 -> 0 | I76: =$I$27 -> 0 | J76: =$J$27 -> 0
A77: =$A$28 -> 0 | B77: =$B$28 -> 0 | E77: =$E$28 -> 0 | F77: =$F$28 -> 0 | H77: =$H$28 -> 0 | I77: =$I$28 -> 0 | J77: =$J$28 -> 0 | K77: =$K$28 -> 0 | L77: =$L$28 -> 0 | M77: =$M$28 -> 0 | P77: =$P$28 -> 0
A78: =$A$29 -> 0 | B78: =$B$29 -> 0 | H78: =$H$29 -> 0 | I78: =$I$29 -> 0 | J78: =$J$29 -> 0
...

Sheet 納品・請求書_4
M1: =請求総括表!$U$1 -> ■■■■■■■■■■■■■■■
E2: 納品・請求書 | M2: =請求総括表!$U$2 -> 年 月 日
E3: 【レンタル用】 | H3: (請求者控) | M3: No. | N3: 4
A5: 株式会社 | D5: 御中 | G5: 請求者 | H5: 登録番号： | J5: =請求総括表!$U$6 -> 0
A6: - 営業所を選択してください。- | G6: 住 所 | H6: =請求総括表!$R$7 -> 0
A7: 担当者
G8: 会社名 | H8: =請求総括表!$R$9 -> 0
G10: ＴＥＬ | H10: =ASC(請求総括表!$R$11) | L10: ＦＡＸ | N10: =ASC(請求総括表!$R$12)
A12: 受注番号 | B12: 客先 | E12: 住所 | F12: 品名 | H12: 期間 | K12: 数量 | L12: 税率 | M12: 金額(税抜) | P12: 撤去 日 | Q12: 検
B13: 工事先名
A43: 備考 | G43: 税率10% | H43: 小計 | J43: =SUMIFS($M$13:$M$40,$L$13:$L$40,"10%") -> 0 | M43: 消費税
G44: 税率 8% | H44: 小計 | J44: =SUMIFS($M$13:$M$40,$L$13:$L$40,"8%") -> 0 | M44: 消費税
G45: 非課税 | H45: 小計 | J45: =SUMIFS($M$13:$M$40,$L$13:$L$40,"非課税") -> 0
G47: 請求金額（税込） | J47: =SUM($J$43,$O$43,$J$44,$O$44,$J$45) -> 0 | P47: 決裁
M50: =$M$1 -> ■■■■■■■■■■■■■■■
E51: 納品・請求書 | M51: =$M$2 -> 年 月 日
E52: 【レンタル用】 | H52: (サンエイ送付用) | M52: No. | N52: =$N$3 -> 4
A54: 株式会社 | D54: 御中 | G54: 請求者 | H54: 登録番号： | J54: =$J$5 -> 0
A55: =$A$6 -> - 営業所を選択してください。- | G55: 住 所 | H55: =$H$6 -> 0
A56: 担当者 | B56: =$B$7 -> 0
G57: 会社名 | H57: =$H$8 -> 0
G59: ＴＥＬ | H59: =$H$10 | L59: ＦＡＸ | N59: =$N$10
A61: 受注番号 | B61: 客先 | E61: 住所 | F61: 品名 | H61: 期間 | K61: 数量 | L61: 税率 | M61: 金額(税抜) | P61: 撤去 日 | Q61: 検
B62: 工事先名
A63: =$A$14 -> 0 | B63: =$B$14 -> 0 | E63: =$E$14 -> 0 | F63: =$F$14 -> 0 | H63: =$H$14 -> 0 | I63: =$I$14 -> 0 | J63: =$J$14 -> 0 | K63: =$K$14 -> 0 | L63: =$L$14 -> 0 | M63: =$M$14 -> 0 | P63: =$P$14 -> 0
A64: =$A$15 -> 0 | B64: =$B$15 -> 0 | H64: =$H$15 -> 0 | I64: =$I$15 -> 0 | J64: =$J$15 -> 0
A65: =$A$16 -> 0 | B65: =$B$16 -> 0 | E65: =$E$16 -> 0 | F65: =$F$16 -> 0 | H65: =$H$16 -> 0 | I65: =$I$16 -> 0 | J65: =$J$16 -> 0 | K65: =$K$16 -> 0 | L65: =$L$16 -> 0 | M65: =$M$16 -> 0 | P65: =$P$16 -> 0
A66: =$A$17 -> 0 | B66: =$B$17 -> 0 | H66: =$H$17 -> 0 | I66: =$I$17 -> 0 | J66: =$J$17 -> 0
A67: =$A$18 -> 0 | B67: =$B$18 -> 0 | E67: =$E$18 -> 0 | F67: =$F$18 -> 0 | H67: =$H$18 -> 0 | I67: =$I$18 -> 0 | J67: =$J$18 -> 0 | K67: =$K$18 -> 0 | L67: =$L$18 -> 0 | M67: =$M$18 -> 0 | P67: =$P$18 -> 0
A68: =$A$19 -> 0 | B68: =$B$19 -> 0 | H68: =$H$19 -> 0 | I68: =$I$19 -> 0 | J68: =$J$19 -> 0
A69: =$A$20 -> 0 | B69: =$B$20 -> 0 | E69: =$E$20 -> 0 | F69: =$F$20 -> 0 | H69: =$H$20 -> 0 | I69: =$I$20 -> 0 | J69: =$J$20 -> 0 | K69: =$K$20 -> 0 | L69: =$L$20 -> 0 | M69: =$M$20 -> 0 | P69: =$P$20 -> 0
A70: =$A$21 -> 0 | B70: =$B$21 -> 0 | H70: =$H$21 -> 0 | I70: =$I$21 -> 0 | J70: =$J$21 -> 0
A71: =$A$22 -> 0 | B71: =$B$22 -> 0 | E71: =$E$22 -> 0 | F71: =$F$22 -> 0 | H71: =$H$22 -> 0 | I71: =$I$22 -> 0 | J71: =$J$22 -> 0 | K71: =$K$22 -> 0 | L71: =$L$22 -> 0 | M71: =$M$22 -> 0 | P71: =$P$22 -> 0
A72: =$A$23 -> 0 | B72: =$B$23 -> 0 | H72: =$H$23 -> 0 | I72: =$I$23 -> 0 | J72: =$J$23 -> 0
A73: =$A$24 -> 0 | B73: =$B$24 -> 0 | E73: =$E$24 -> 0 | F73: =$F$24 -> 0 | H73: =$H$24 -> 0 | I73: =$I$24 -> 0 | J73: =$J$24 -> 0 | K73: =$K$24 -> 0 | L73: =$L$24 -> 0 | M73: =$M$24 -> 0 | P73: =$P$24 -> 0
A74: =$A$25 -> 0 | B74: =$B$25 -> 0 | H74: =$H$25 -> 0 | I74: =$I$25 -> 0 | J74: =$J$25 -> 0
A75: =$A$26 -> 0 | B75: =$B$26 -> 0 | E75: =$E$26 -> 0 | F75: =$F$26 -> 0 | H75: =$H$26 -> 0 | I75: =$I$26 -> 0 | J75: =$J$26 -> 0 | K75: =$K$26 -> 0 | L75: =$L$26 -> 0 | M75: =$M$26 -> 0 | P75: =$P$26 -> 0
A76: =$A$27 -> 0 | B76: =$B$27 -> 0 | H76: =$H$27 -> 0 | I76: =$I$27 -> 0 | J76: =$J$27 -> 0
A77: =$A$28 -> 0 | B77: =$B$28 -> 0 | E77: =$E$28 -> 0 | F77: =$F$28 -> 0 | H77: =$H$28 -> 0 | I77: =$I$28 -> 0 | J77: =$J$28 -> 0 | K77: =$K$28 -> 0 | L77: =$L$28 -> 0 | M77: =$M$28 -> 0 | P77: =$P$28 -> 0
A78: =$A$29 -> 0 | B78: =$B$29 -> 0 | H78: =$H$29 -> 0 | I78: =$I$29 -> 0 | J78: =$J$29 -> 0
...

Sheet 納品・請求書_5
M1: =請求総括表!$U$1 -> ■■■■■■■■■■■■■■■
E2: 納品・請求書 | M2: =請求総括表!$U$2 -> 年 月 日
E3: 【レンタル用】 | H3: (請求者控) | M3: No. | N3: 5
A5: 株式会社 | D5: 御中 | G5: 請求者 | H5: 登録番号： | J5: =請求総括表!$U$6 -> 0
A6: - 営業所を選択してください。- | G6: 住 所 | H6: =請求総括表!$R$7 -> 0
A7: 担当者
G8: 会社名 | H8: =請求総括表!$R$9 -> 0
G10: ＴＥＬ | H10: =ASC(請求総括表!$R$11) | L10: ＦＡＸ | N10: =ASC(請求総括表!$R$12)
A12: 受注番号 | B12: 客先 | E12: 住所 | F12: 品名 | H12: 期間 | K12: 数量 | L12: 税率 | M12: 金額(税抜) | P12: 撤去 日 | Q12: 検
B13: 工事先名
A43: 備考 | G43: 税率10% | H43: 小計 | J43: =SUMIFS($M$13:$M$40,$L$13:$L$40,"10%") -> 0 | M43: 消費税
G44: 税率 8% | H44: 小計 | J44: =SUMIFS($M$13:$M$40,$L$13:$L$40,"8%") -> 0 | M44: 消費税
G45: 非課税 | H45: 小計 | J45: =SUMIFS($M$13:$M$40,$L$13:$L$40,"非課税") -> 0
G47: 請求金額（税込） | J47: =SUM($J$43,$O$43,$J$44,$O$44,$J$45) -> 0 | P47: 決裁
M50: =$M$1 -> ■■■■■■■■■■■■■■■
E51: 納品・請求書 | M51: =$M$2 -> 年 月 日
E52: 【レンタル用】 | H52: (サンエイ送付用) | M52: No. | N52: =$N$3 -> 5
A54: 株式会社 | D54: 御中 | G54: 請求者 | H54: 登録番号： | J54: =$J$5 -> 0
A55: =$A$6 -> - 営業所を選択してください。- | G55: 住 所 | H55: =$H$6 -> 0
A56: 担当者 | B56: =$B$7 -> 0
G57: 会社名 | H57: =$H$8 -> 0
G59: ＴＥＬ | H59: =$H$10 | L59: ＦＡＸ | N59: =$N$10
A61: 受注番号 | B61: 客先 | E61: 住所 | F61: 品名 | H61: 期間 | K61: 数量 | L61: 税率 | M61: 金額(税抜) | P61: 撤去 日 | Q61: 検
B62: 工事先名
A63: =$A$14 -> 0 | B63: =$B$14 -> 0 | E63: =$E$14 -> 0 | F63: =$F$14 -> 0 | H63: =$H$14 -> 0 | I63: =$I$14 -> 0 | J63: =$J$14 -> 0 | K63: =$K$14 -> 0 | L63: =$L$14 -> 0 | M63: =$M$14 -> 0 | P63: =$P$14 -> 0
A64: =$A$15 -> 0 | B64: =$B$15 -> 0 | H64: =$H$15 -> 0 | I64: =$I$15 -> 0 | J64: =$J$15 -> 0
A65: =$A$16 -> 0 | B65: =$B$16 -> 0 | E65: =$E$16 -> 0 | F65: =$F$16 -> 0 | H65: =$H$16 -> 0 | I65: =$I$16 -> 0 | J65: =$J$16 -> 0 | K65: =$K$16 -> 0 | L65: =$L$16 -> 0 | M65: =$M$16 -> 0 | P65: =$P$16 -> 0
A66: =$A$17 -> 0 | B66: =$B$17 -> 0 | H66: =$H$17 -> 0 | I66: =$I$17 -> 0 | J66: =$J$17 -> 0
A67: =$A$18 -> 0 | B67: =$B$18 -> 0 | E67: =$E$18 -> 0 | F67: =$F$18 -> 0 | H67: =$H$18 -> 0 | I67: =$I$18 -> 0 | J67: =$J$18 -> 0 | K67: =$K$18 -> 0 | L67: =$L$18 -> 0 | M67: =$M$18 -> 0 | P67: =$P$18 -> 0
A68: =$A$19 -> 0 | B68: =$B$19 -> 0 | H68: =$H$19 -> 0 | I68: =$I$19 -> 0 | J68: =$J$19 -> 0
A69: =$A$20 -> 0 | B69: =$B$20 -> 0 | E69: =$E$20 -> 0 | F69: =$F$20 -> 0 | H69: =$H$20 -> 0 | I69: =$I$20 -> 0 | J69: =$J$20 -> 0 | K69: =$K$20 -> 0 | L69: =$L$20 -> 0 | M69: =$M$20 -> 0 | P69: =$P$20 -> 0
A70: =$A$21 -> 0 | B70: =$B$21 -> 0 | H70: =$H$21 -> 0 | I70: =$I$21 -> 0 | J70: =$J$21 -> 0
A71: =$A$22 -> 0 | B71: =$B$22 -> 0 | E71: =$E$22 -> 0 | F71: =$F$22 -> 0 | H71: =$H$22 -> 0 | I71: =$I$22 -> 0 | J71: =$J$22 -> 0 | K71: =$K$22 -> 0 | L71: =$L$22 -> 0 | M71: =$M$22 -> 0 | P71: =$P$22 -> 0
A72: =$A$23 -> 0 | B72: =$B$23 -> 0 | H72: =$H$23 -> 0 | I72: =$I$23 -> 0 | J72: =$J$23 -> 0
A73: =$A$24 -> 0 | B73: =$B$24 -> 0 | E73: =$E$24 -> 0 | F73: =$F$24 -> 0 | H73: =$H$24 -> 0 | I73: =$I$24 -> 0 | J73: =$J$24 -> 0 | K73: =$K$24 -> 0 | L73: =$L$24 -> 0 | M73: =$M$24 -> 0 | P73: =$P$24 -> 0
A74: =$A$25 -> 0 | B74: =$B$25 -> 0 | H74: =$H$25 -> 0 | I74: =$I$25 -> 0 | J74: =$J$25 -> 0
A75: =$A$26 -> 0 | B75: =$B$26 -> 0 | E75: =$E$26 -> 0 | F75: =$F$26 -> 0 | H75: =$H$26 -> 0 | I75: =$I$26 -> 0 | J75: =$J$26 -> 0 | K75: =$K$26 -> 0 | L75: =$L$26 -> 0 | M75: =$M$26 -> 0 | P75: =$P$26 -> 0
A76: =$A$27 -> 0 | B76: =$B$27 -> 0 | H76: =$H$27 -> 0 | I76: =$I$27 -> 0 | J76: =$J$27 -> 0
A77: =$A$28 -> 0 | B77: =$B$28 -> 0 | E77: =$E$28 -> 0 | F77: =$F$28 -> 0 | H77: =$H$28 -> 0 | I77: =$I$28 -> 0 | J77: =$J$28 -> 0 | K77: =$K$28 -> 0 | L77: =$L$28 -> 0 | M77: =$M$28 -> 0 | P77: =$P$28 -> 0
A78: =$A$29 -> 0 | B78: =$B$29 -> 0 | H78: =$H$29 -> 0 | I78: =$I$29 -> 0 | J78: =$J$29 -> 0
...

Sheet 納品・請求書_6
M1: =請求総括表!$U$1 -> ■■■■■■■■■■■■■■■
E2: 納品・請求書 | M2: =請求総括表!$U$2 -> 年 月 日
E3: 【レンタル用】 | H3: (請求者控) | M3: No. | N3: 6
A5: 株式会社 | D5: 御中 | G5: 請求者 | H5: 登録番号： | J5: =請求総括表!$U$6 -> 0
A6: - 営業所を選択してください。- | G6: 住 所 | H6: =請求総括表!$R$7 -> 0
A7: 担当者
G8: 会社名 | H8: =請求総括表!$R$9 -> 0
G10: ＴＥＬ | H10: =ASC(請求総括表!$R$11) | L10: ＦＡＸ | N10: =ASC(請求総括表!$R$12)
A12: 受注番号 | B12: 客先 | E12: 住所 | F12: 品名 | H12: 期間 | K12: 数量 | L12: 税率 | M12: 金額(税抜) | P12: 撤去 日 | Q12: 検
B13: 工事先名
A43: 備考 | G43: 税率10% | H43: 小計 | J43: =SUMIFS($M$13:$M$40,$L$13:$L$40,"10%") -> 0 | M43: 消費税
G44: 税率 8% | H44: 小計 | J44: =SUMIFS($M$13:$M$40,$L$13:$L$40,"8%") -> 0 | M44: 消費税
G45: 非課税 | H45: 小計 | J45: =SUMIFS($M$13:$M$40,$L$13:$L$40,"非課税") -> 0
G47: 請求金額（税込） | J47: =SUM($J$43,$O$43,$J$44,$O$44,$J$45) -> 0 | P47: 決裁
M50: =$M$1 -> ■■■■■■■■■■■■■■■
E51: 納品・請求書 | M51: =$M$2 -> 年 月 日
E52: 【レンタル用】 | H52: (サンエイ送付用) | M52: No. | N52: =$N$3 -> 6
A54: 株式会社 | D54: 御中 | G54: 請求者 | H54: 登録番号： | J54: =$J$5 -> 0
A55: =$A$6 -> - 営業所を選択してください。- | G55: 住 所 | H55: =$H$6 -> 0
A56: 担当者 | B56: =$B$7 -> 0
G57: 会社名 | H57: =$H$8 -> 0
G59: ＴＥＬ | H59: =$H$10 | L59: ＦＡＸ | N59: =$N$10
A61: 受注番号 | B61: 客先 | E61: 住所 | F61: 品名 | H61: 期間 | K61: 数量 | L61: 税率 | M61: 金額(税抜) | P61: 撤去 日 | Q61: 検
B62: 工事先名
A63: =$A$14 -> 0 | B63: =$B$14 -> 0 | E63: =$E$14 -> 0 | F63: =$F$14 -> 0 | H63: =$H$14 -> 0 | I63: =$I$14 -> 0 | J63: =$J$14 -> 0 | K63: =$K$14 -> 0 | L63: =$L$14 -> 0 | M63: =$M$14 -> 0 | P63: =$P$14 -> 0
A64: =$A$15 -> 0 | B64: =$B$15 -> 0 | H64: =$H$15 -> 0 | I64: =$I$15 -> 0 | J64: =$J$15 -> 0
A65: =$A$16 -> 0 | B65: =$B$16 -> 0 | E65: =$E$16 -> 0 | F65: =$F$16 -> 0 | H65: =$H$16 -> 0 | I65: =$I$16 -> 0 | J65: =$J$16 -> 0 | K65: =$K$16 -> 0 | L65: =$L$16 -> 0 | M65: =$M$16 -> 0 | P65: =$P$16 -> 0
A66: =$A$17 -> 0 | B66: =$B$17 -> 0 | H66: =$H$17 -> 0 | I66: =$I$17 -> 0 | J66: =$J$17 -> 0
A67: =$A$18 -> 0 | B67: =$B$18 -> 0 | E67: =$E$18 -> 0 | F67: =$F$18 -> 0 | H67: =$H$18 -> 0 | I67: =$I$18 -> 0 | J67: =$J$18 -> 0 | K67: =$K$18 -> 0 | L67: =$L$18 -> 0 | M67: =$M$18 -> 0 | P67: =$P$18 -> 0
A68: =$A$19 -> 0 | B68: =$B$19 -> 0 | H68: =$H$19 -> 0 | I68: =$I$19 -> 0 | J68: =$J$19 -> 0
A69: =$A$20 -> 0 | B69: =$B$20 -> 0 | E69: =$E$20 -> 0 | F69: =$F$20 -> 0 | H69: =$H$20 -> 0 | I69: =$I$20 -> 0 | J69: =$J$20 -> 0 | K69: =$K$20 -> 0 | L69: =$L$20 -> 0 | M69: =$M$20 -> 0 | P69: =$P$20 -> 0
A70: =$A$21 -> 0 | B70: =$B$21 -> 0 | H70: =$H$21 -> 0 | I70: =$I$21 -> 0 | J70: =$J$21 -> 0
A71: =$A$22 -> 0 | B71: =$B$22 -> 0 | E71: =$E$22 -> 0 | F71: =$F$22 -> 0 | H71: =$H$22 -> 0 | I71: =$I$22 -> 0 | J71: =$J$22 -> 0 | K71: =$K$22 -> 0 | L71: =$L$22 -> 0 | M71: =$M$22 -> 0 | P71: =$P$22 -> 0
A72: =$A$23 -> 0 | B72: =$B$23 -> 0 | H72: =$H$23 -> 0 | I72: =$I$23 -> 0 | J72: =$J$23 -> 0
A73: =$A$24 -> 0 | B73: =$B$24 -> 0 | E73: =$E$24 -> 0 | F73: =$F$24 -> 0 | H73: =$H$24 -> 0 | I73: =$I$24 -> 0 | J73: =$J$24 -> 0 | K73: =$K$24 -> 0 | L73: =$L$24 -> 0 | M73: =$M$24 -> 0 | P73: =$P$24 -> 0
A74: =$A$25 -> 0 | B74: =$B$25 -> 0 | H74: =$H$25 -> 0 | I74: =$I$25 -> 0 | J74: =$J$25 -> 0
A75: =$A$26 -> 0 | B75: =$B$26 -> 0 | E75: =$E$26 -> 0 | F75: =$F$26 -> 0 | H75: =$H$26 -> 0 | I75: =$I$26 -> 0 | J75: =$J$26 -> 0 | K75: =$K$26 -> 0 | L75: =$L$26 -> 0 | M75: =$M$26 -> 0 | P75: =$P$26 -> 0
A76: =$A$27 -> 0 | B76: =$B$27 -> 0 | H76: =$H$27 -> 0 | I76: =$I$27 -> 0 | J76: =$J$27 -> 0
A77: =$A$28 -> 0 | B77: =$B$28 -> 0 | E77: =$E$28 -> 0 | F77: =$F$28 -> 0 | H77: =$H$28 -> 0 | I77: =$I$28 -> 0 | J77: =$J$28 -> 0 | K77: =$K$28 -> 0 | L77: =$L$28 -> 0 | M77: =$M$28 -> 0 | P77: =$P$28 -> 0
A78: =$A$29 -> 0 | B78: =$B$29 -> 0 | H78: =$H$29 -> 0 | I78: =$I$29 -> 0 | J78: =$J$29 -> 0
...

Sheet 納品・請求書_7
M1: =請求総括表!$U$1 -> ■■■■■■■■■■■■■■■
E2: 納品・請求書 | M2: =請求総括表!$U$2 -> 年 月 日
E3: 【レンタル用】 | H3: (請求者控) | M3: No. | N3: 7
A5: 株式会社 | D5: 御中 | G5: 請求者 | H5: 登録番号： | J5: =請求総括表!$U$6 -> 0
A6: - 営業所を選択してください。- | G6: 住 所 | H6: =請求総括表!$R$7 -> 0
A7: 担当者
G8: 会社名 | H8: =請求総括表!$R$9 -> 0
G10: ＴＥＬ | H10: =ASC(請求総括表!$R$11) | L10: ＦＡＸ | N10: =ASC(請求総括表!$R$12)
A12: 受注番号 | B12: 客先 | E12: 住所 | F12: 品名 | H12: 期間 | K12: 数量 | L12: 税率 | M12: 金額(税抜) | P12: 撤去 日 | Q12: 検
B13: 工事先名
A43: 備考 | G43: 税率10% | H43: 小計 | J43: =SUMIFS($M$13:$M$40,$L$13:$L$40,"10%") -> 0 | M43: 消費税
G44: 税率 8% | H44: 小計 | J44: =SUMIFS($M$13:$M$40,$L$13:$L$40,"8%") -> 0 | M44: 消費税
G45: 非課税 | H45: 小計 | J45: =SUMIFS($M$13:$M$40,$L$13:$L$40,"非課税") -> 0
G47: 請求金額（税込） | J47: =SUM($J$43,$O$43,$J$44,$O$44,$J$45) -> 0 | P47: 決裁
M50: =$M$1 -> ■■■■■■■■■■■■■■■
E51: 納品・請求書 | M51: =$M$2 -> 年 月 日
E52: 【レンタル用】 | H52: (サンエイ送付用) | M52: No. | N52: =$N$3 -> 7
A54: 株式会社 | D54: 御中 | G54: 請求者 | H54: 登録番号： | J54: =$J$5 -> 0
A55: =$A$6 -> - 営業所を選択してください。- | G55: 住 所 | H55: =$H$6 -> 0
A56: 担当者 | B56: =$B$7 -> 0
G57: 会社名 | H57: =$H$8 -> 0
G59: ＴＥＬ | H59: =$H$10 | L59: ＦＡＸ | N59: =$N$10
A61: 受注番号 | B61: 客先 | E61: 住所 | F61: 品名 | H61: 期間 | K61: 数量 | L61: 税率 | M61: 金額(税抜) | P61: 撤去 日 | Q61: 検
B62: 工事先名
A63: =$A$14 -> 0 | B63: =$B$14 -> 0 | E63: =$E$14 -> 0 | F63: =$F$14 -> 0 | H63: =$H$14 -> 0 | I63: =$I$14 -> 0 | J63: =$J$14 -> 0 | K63: =$K$14 -> 0 | L63: =$L$14 -> 0 | M63: =$M$14 -> 0 | P63: =$P$14 -> 0
A64: =$A$15 -> 0 | B64: =$B$15 -> 0 | H64: =$H$15 -> 0 | I64: =$I$15 -> 0 | J64: =$J$15 -> 0
A65: =$A$16 -> 0 | B65: =$B$16 -> 0 | E65: =$E$16 -> 0 | F65: =$F$16 -> 0 | H65: =$H$16 -> 0 | I65: =$I$16 -> 0 | J65: =$J$16 -> 0 | K65: =$K$16 -> 0 | L65: =$L$16 -> 0 | M65: =$M$16 -> 0 | P65: =$P$16 -> 0
A66: =$A$17 -> 0 | B66: =$B$17 -> 0 | H66: =$H$17 -> 0 | I66: =$I$17 -> 0 | J66: =$J$17 -> 0
A67: =$A$18 -> 0 | B67: =$B$18 -> 0 | E67: =$E$18 -> 0 | F67: =$F$18 -> 0 | H67: =$H$18 -> 0 | I67: =$I$18 -> 0 | J67: =$J$18 -> 0 | K67: =$K$18 -> 0 | L67: =$L$18 -> 0 | M67: =$M$18 -> 0 | P67: =$P$18 -> 0
A68: =$A$19 -> 0 | B68: =$B$19 -> 0 | H68: =$H$19 -> 0 | I68: =$I$19 -> 0 | J68: =$J$19 -> 0
A69: =$A$20 -> 0 | B69: =$B$20 -> 0 | E69: =$E$20 -> 0 | F69: =$F$20 -> 0 | H69: =$H$20 -> 0 | I69: =$I$20 -> 0 | J69: =$J$20 -> 0 | K69: =$K$20 -> 0 | L69: =$L$20 -> 0 | M69: =$M$20 -> 0 | P69: =$P$20 -> 0
A70: =$A$21 -> 0 | B70: =$B$21 -> 0 | H70: =$H$21 -> 0 | I70: =$I$21 -> 0 | J70: =$J$21 -> 0
A71: =$A$22 -> 0 | B71: =$B$22 -> 0 | E71: =$E$22 -> 0 | F71: =$F$22 -> 0 | H71: =$H$22 -> 0 | I71: =$I$22 -> 0 | J71: =$J$22 -> 0 | K71: =$K$22 -> 0 | L71: =$L$22 -> 0 | M71: =$M$22 -> 0 | P71: =$P$22 -> 0
A72: =$A$23 -> 0 | B72: =$B$23 -> 0 | H72: =$H$23 -> 0 | I72: =$I$23 -> 0 | J72: =$J$23 -> 0
A73: =$A$24 -> 0 | B73: =$B$24 -> 0 | E73: =$E$24 -> 0 | F73: =$F$24 -> 0 | H73: =$H$24 -> 0 | I73: =$I$24 -> 0 | J73: =$J$24 -> 0 | K73: =$K$24 -> 0 | L73: =$L$24 -> 0 | M73: =$M$24 -> 0 | P73: =$P$24 -> 0
A74: =$A$25 -> 0 | B74: =$B$25 -> 0 | H74: =$H$25 -> 0 | I74: =$I$25 -> 0 | J74: =$J$25 -> 0
A75: =$A$26 -> 0 | B75: =$B$26 -> 0 | E75: =$E$26 -> 0 | F75: =$F$26 -> 0 | H75: =$H$26 -> 0 | I75: =$I$26 -> 0 | J75: =$J$26 -> 0 | K75: =$K$26 -> 0 | L75: =$L$26 -> 0 | M75: =$M$26 -> 0 | P75: =$P$26 -> 0
A76: =$A$27 -> 0 | B76: =$B$27 -> 0 | H76: =$H$27 -> 0 | I76: =$I$27 -> 0 | J76: =$J$27 -> 0
A77: =$A$28 -> 0 | B77: =$B$28 -> 0 | E77: =$E$28 -> 0 | F77: =$F$28 -> 0 | H77: =$H$28 -> 0 | I77: =$I$28 -> 0 | J77: =$J$28 -> 0 | K77: =$K$28 -> 0 | L77: =$L$28 -> 0 | M77: =$M$28 -> 0 | P77: =$P$28 -> 0
A78: =$A$29 -> 0 | B78: =$B$29 -> 0 | H78: =$H$29 -> 0 | I78: =$I$29 -> 0 | J78: =$J$29 -> 0
...

Sheet 納品・請求書_8
M1: =請求総括表!$U$1 -> ■■■■■■■■■■■■■■■
E2: 納品・請求書 | M2: =請求総括表!$U$2 -> 年 月 日
E3: 【レンタル用】 | H3: (請求者控) | M3: No. | N3: 8
A5: 株式会社 | D5: 御中 | G5: 請求者 | H5: 登録番号： | J5: =請求総括表!$U$6 -> 0
A6: - 営業所を選択してください。- | G6: 住 所 | H6: =請求総括表!$R$7 -> 0
A7: 担当者
G8: 会社名 | H8: =請求総括表!$R$9 -> 0
G10: ＴＥＬ | H10: =ASC(請求総括表!$R$11) | L10: ＦＡＸ | N10: =ASC(請求総括表!$R$12)
A12: 受注番号 | B12: 客先 | E12: 住所 | F12: 品名 | H12: 期間 | K12: 数量 | L12: 税率 | M12: 金額(税抜) | P12: 撤去 日 | Q12: 検
B13: 工事先名
A43: 備考 | G43: 税率10% | H43: 小計 | J43: =SUMIFS($M$13:$M$40,$L$13:$L$40,"10%") -> 0 | M43: 消費税
G44: 税率 8% | H44: 小計 | J44: =SUMIFS($M$13:$M$40,$L$13:$L$40,"8%") -> 0 | M44: 消費税
G45: 非課税 | H45: 小計 | J45: =SUMIFS($M$13:$M$40,$L$13:$L$40,"非課税") -> 0
G47: 請求金額（税込） | J47: =SUM($J$43,$O$43,$J$44,$O$44,$J$45) -> 0 | P47: 決裁
M50: =$M$1 -> ■■■■■■■■■■■■■■■
E51: 納品・請求書 | M51: =$M$2 -> 年 月 日
E52: 【レンタル用】 | H52: (サンエイ送付用) | M52: No. | N52: =$N$3 -> 8
A54: 株式会社 | D54: 御中 | G54: 請求者 | H54: 登録番号： | J54: =$J$5 -> 0
A55: =$A$6 -> - 営業所を選択してください。- | G55: 住 所 | H55: =$H$6 -> 0
A56: 担当者 | B56: =$B$7 -> 0
G57: 会社名 | H57: =$H$8 -> 0
G59: ＴＥＬ | H59: =$H$10 | L59: ＦＡＸ | N59: =$N$10
A61: 受注番号 | B61: 客先 | E61: 住所 | F61: 品名 | H61: 期間 | K61: 数量 | L61: 税率 | M61: 金額(税抜) | P61: 撤去 日 | Q61: 検
B62: 工事先名
A63: =$A$14 -> 0 | B63: =$B$14 -> 0 | E63: =$E$14 -> 0 | F63: =$F$14 -> 0 | H63: =$H$14 -> 0 | I63: =$I$14 -> 0 | J63: =$J$14 -> 0 | K63: =$K$14 -> 0 | L63: =$L$14 -> 0 | M63: =$M$14 -> 0 | P63: =$P$14 -> 0
A64: =$A$15 -> 0 | B64: =$B$15 -> 0 | H64: =$H$15 -> 0 | I64: =$I$15 -> 0 | J64: =$J$15 -> 0
A65: =$A$16 -> 0 | B65: =$B$16 -> 0 | E65: =$E$16 -> 0 | F65: =$F$16 -> 0 | H65: =$H$16 -> 0 | I65: =$I$16 -> 0 | J65: =$J$16 -> 0 | K65: =$K$16 -> 0 | L65: =$L$16 -> 0 | M65: =$M$16 -> 0 | P65: =$P$16 -> 0
A66: =$A$17 -> 0 | B66: =$B$17 -> 0 | H66: =$H$17 -> 0 | I66: =$I$17 -> 0 | J66: =$J$17 -> 0
A67: =$A$18 -> 0 | B67: =$B$18 -> 0 | E67: =$E$18 -> 0 | F67: =$F$18 -> 0 | H67: =$H$18 -> 0 | I67: =$I$18 -> 0 | J67: =$J$18 -> 0 | K67: =$K$18 -> 0 | L67: =$L$18 -> 0 | M67: =$M$18 -> 0 | P67: =$P$18 -> 0
A68: =$A$19 -> 0 | B68: =$B$19 -> 0 | H68: =$H$19 -> 0 | I68: =$I$19 -> 0 | J68: =$J$19 -> 0
A69: =$A$20 -> 0 | B69: =$B$20 -> 0 | E69: =$E$20 -> 0 | F69: =$F$20 -> 0 | H69: =$H$20 -> 0 | I69: =$I$20 -> 0 | J69: =$J$20 -> 0 | K69: =$K$20 -> 0 | L69: =$L$20 -> 0 | M69: =$M$20 -> 0 | P69: =$P$20 -> 0
A70: =$A$21 -> 0 | B70: =$B$21 -> 0 | H70: =$H$21 -> 0 | I70: =$I$21 -> 0 | J70: =$J$21 -> 0
A71: =$A$22 -> 0 | B71: =$B$22 -> 0 | E71: =$E$22 -> 0 | F71: =$F$22 -> 0 | H71: =$H$22 -> 0 | I71: =$I$22 -> 0 | J71: =$J$22 -> 0 | K71: =$K$22 -> 0 | L71: =$L$22 -> 0 | M71: =$M$22 -> 0 | P71: =$P$22 -> 0
A72: =$A$23 -> 0 | B72: =$B$23 -> 0 | H72: =$H$23 -> 0 | I72: =$I$23 -> 0 | J72: =$J$23 -> 0
A73: =$A$24 -> 0 | B73: =$B$24 -> 0 | E73: =$E$24 -> 0 | F73: =$F$24 -> 0 | H73: =$H$24 -> 0 | I73: =$I$24 -> 0 | J73: =$J$24 -> 0 | K73: =$K$24 -> 0 | L73: =$L$24 -> 0 | M73: =$M$24 -> 0 | P73: =$P$24 -> 0
A74: =$A$25 -> 0 | B74: =$B$25 -> 0 | H74: =$H$25 -> 0 | I74: =$I$25 -> 0 | J74: =$J$25 -> 0
A75: =$A$26 -> 0 | B75: =$B$26 -> 0 | E75: =$E$26 -> 0 | F75: =$F$26 -> 0 | H75: =$H$26 -> 0 | I75: =$I$26 -> 0 | J75: =$J$26 -> 0 | K75: =$K$26 -> 0 | L75: =$L$26 -> 0 | M75: =$M$26 -> 0 | P75: =$P$26 -> 0
A76: =$A$27 -> 0 | B76: =$B$27 -> 0 | H76: =$H$27 -> 0 | I76: =$I$27 -> 0 | J76: =$J$27 -> 0
A77: =$A$28 -> 0 | B77: =$B$28 -> 0 | E77: =$E$28 -> 0 | F77: =$F$28 -> 0 | H77: =$H$28 -> 0 | I77: =$I$28 -> 0 | J77: =$J$28 -> 0 | K77: =$K$28 -> 0 | L77: =$L$28 -> 0 | M77: =$M$28 -> 0 | P77: =$P$28 -> 0
A78: =$A$29 -> 0 | B78: =$B$29 -> 0 | H78: =$H$29 -> 0 | I78: =$I$29 -> 0 | J78: =$J$29 -> 0
...

Sheet 納品・請求書_9
M1: =請求総括表!$U$1 -> ■■■■■■■■■■■■■■■
E2: 納品・請求書 | M2: =請求総括表!$U$2 -> 年 月 日
E3: 【レンタル用】 | H3: (請求者控) | M3: No. | N3: 9
A5: 株式会社 | D5: 御中 | G5: 請求者 | H5: 登録番号： | J5: =請求総括表!$U$6 -> 0
A6: - 営業所を選択してください。- | G6: 住 所 | H6: =請求総括表!$R$7 -> 0
A7: 担当者
G8: 会社名 | H8: =請求総括表!$R$9 -> 0
G10: ＴＥＬ | H10: =ASC(請求総括表!$R$11) | L10: ＦＡＸ | N10: =ASC(請求総括表!$R$12)
A12: 受注番号 | B12: 客先 | E12: 住所 | F12: 品名 | H12: 期間 | K12: 数量 | L12: 税率 | M12: 金額(税抜) | P12: 撤去 日 | Q12: 検
B13: 工事先名
A43: 備考 | G43: 税率10% | H43: 小計 | J43: =SUMIFS($M$13:$M$40,$L$13:$L$40,"10%") -> 0 | M43: 消費税
G44: 税率 8% | H44: 小計 | J44: =SUMIFS($M$13:$M$40,$L$13:$L$40,"8%") -> 0 | M44: 消費税
G45: 非課税 | H45: 小計 | J45: =SUMIFS($M$13:$M$40,$L$13:$L$40,"非課税") -> 0
G47: 請求金額（税込） | J47: =SUM($J$43,$O$43,$J$44,$O$44,$J$45) -> 0 | P47: 決裁
M50: =$M$1 -> ■■■■■■■■■■■■■■■
E51: 納品・請求書 | M51: =$M$2 -> 年 月 日
E52: 【レンタル用】 | H52: (サンエイ送付用) | M52: No. | N52: =$N$3 -> 9
A54: 株式会社 | D54: 御中 | G54: 請求者 | H54: 登録番号： | J54: =$J$5 -> 0
A55: =$A$6 -> - 営業所を選択してください。- | G55: 住 所 | H55: =$H$6 -> 0
A56: 担当者 | B56: =$B$7 -> 0
G57: 会社名 | H57: =$H$8 -> 0
G59: ＴＥＬ | H59: =$H$10 | L59: ＦＡＸ | N59: =$N$10
A61: 受注番号 | B61: 客先 | E61: 住所 | F61: 品名 | H61: 期間 | K61: 数量 | L61: 税率 | M61: 金額(税抜) | P61: 撤去 日 | Q61: 検
B62: 工事先名
A63: =$A$14 -> 0 | B63: =$B$14 -> 0 | E63: =$E$14 -> 0 | F63: =$F$14 -> 0 | H63: =$H$14 -> 0 | I63: =$I$14 -> 0 | J63: =$J$14 -> 0 | K63: =$K$14 -> 0 | L63: =$L$14 -> 0 | M63: =$M$14 -> 0 | P63: =$P$14 -> 0
A64: =$A$15 -> 0 | B64: =$B$15 -> 0 | H64: =$H$15 -> 0 | I64: =$I$15 -> 0 | J64: =$J$15 -> 0
A65: =$A$16 -> 0 | B65: =$B$16 -> 0 | E65: =$E$16 -> 0 | F65: =$F$16 -> 0 | H65: =$H$16 -> 0 | I65: =$I$16 -> 0 | J65: =$J$16 -> 0 | K65: =$K$16 -> 0 | L65: =$L$16 -> 0 | M65: =$M$16 -> 0 | P65: =$P$16 -> 0
A66: =$A$17 -> 0 | B66: =$B$17 -> 0 | H66: =$H$17 -> 0 | I66: =$I$17 -> 0 | J66: =$J$17 -> 0
A67: =$A$18 -> 0 | B67: =$B$18 -> 0 | E67: =$E$18 -> 0 | F67: =$F$18 -> 0 | H67: =$H$18 -> 0 | I67: =$I$18 -> 0 | J67: =$J$18 -> 0 | K67: =$K$18 -> 0 | L67: =$L$18 -> 0 | M67: =$M$18 -> 0 | P67: =$P$18 -> 0
A68: =$A$19 -> 0 | B68: =$B$19 -> 0 | H68: =$H$19 -> 0 | I68: =$I$19 -> 0 | J68: =$J$19 -> 0
A69: =$A$20 -> 0 | B69: =$B$20 -> 0 | E69: =$E$20 -> 0 | F69: =$F$20 -> 0 | H69: =$H$20 -> 0 | I69: =$I$20 -> 0 | J69: =$J$20 -> 0 | K69: =$K$20 -> 0 | L69: =$L$20 -> 0 | M69: =$M$20 -> 0 | P69: =$P$20 -> 0
A70: =$A$21 -> 0 | B70: =$B$21 -> 0 | H70: =$H$21 -> 0 | I70: =$I$21 -> 0 | J70: =$J$21 -> 0
A71: =$A$22 -> 0 | B71: =$B$22 -> 0 | E71: =$E$22 -> 0 | F71: =$F$22 -> 0 | H71: =$H$22 -> 0 | I71: =$I$22 -> 0 | J71: =$J$22 -> 0 | K71: =$K$22 -> 0 | L71: =$L$22 -> 0 | M71: =$M$22 -> 0 | P71: =$P$22 -> 0
A72: =$A$23 -> 0 | B72: =$B$23 -> 0 | H72: =$H$23 -> 0 | I72: =$I$23 -> 0 | J72: =$J$23 -> 0
A73: =$A$24 -> 0 | B73: =$B$24 -> 0 | E73: =$E$24 -> 0 | F73: =$F$24 -> 0 | H73: =$H$24 -> 0 | I73: =$I$24 -> 0 | J73: =$J$24 -> 0 | K73: =$K$24 -> 0 | L73: =$L$24 -> 0 | M73: =$M$24 -> 0 | P73: =$P$24 -> 0
A74: =$A$25 -> 0 | B74: =$B$25 -> 0 | H74: =$H$25 -> 0 | I74: =$I$25 -> 0 | J74: =$J$25 -> 0
A75: =$A$26 -> 0 | B75: =$B$26 -> 0 | E75: =$E$26 -> 0 | F75: =$F$26 -> 0 | H75: =$H$26 -> 0 | I75: =$I$26 -> 0 | J75: =$J$26 -> 0 | K75: =$K$26 -> 0 | L75: =$L$26 -> 0 | M75: =$M$26 -> 0 | P75: =$P$26 -> 0
A76: =$A$27 -> 0 | B76: =$B$27 -> 0 | H76: =$H$27 -> 0 | I76: =$I$27 -> 0 | J76: =$J$27 -> 0
A77: =$A$28 -> 0 | B77: =$B$28 -> 0 | E77: =$E$28 -> 0 | F77: =$F$28 -> 0 | H77: =$H$28 -> 0 | I77: =$I$28 -> 0 | J77: =$J$28 -> 0 | K77: =$K$28 -> 0 | L77: =$L$28 -> 0 | M77: =$M$28 -> 0 | P77: =$P$28 -> 0
A78: =$A$29 -> 0 | B78: =$B$29 -> 0 | H78: =$H$29 -> 0 | I78: =$I$29 -> 0 | J78: =$J$29 -> 0
...

Sheet 納品・請求書_10
M1: =請求総括表!$U$1 -> ■■■■■■■■■■■■■■■
E2: 納品・請求書 | M2: =請求総括表!$U$2 -> 年 月 日
E3: 【レンタル用】 | H3: (請求者控) | M3: No. | N3: 10
A5: 株式会社 | D5: 御中 | G5: 請求者 | H5: 登録番号： | J5: =請求総括表!$U$6 -> 0
A6: - 営業所を選択してください。- | G6: 住 所 | H6: =請求総括表!$R$7 -> 0
A7: 担当者
G8: 会社名 | H8: =請求総括表!$R$9 -> 0
G10: ＴＥＬ | H10: =ASC(請求総括表!$R$11) | L10: ＦＡＸ | N10: =ASC(請求総括表!$R$12)
A12: 受注番号 | B12: 客先 | E12: 住所 | F12: 品名 | H12: 期間 | K12: 数量 | L12: 税率 | M12: 金額(税抜) | P12: 撤去 日 | Q12: 検
B13: 工事先名
A43: 備考 | G43: 税率10% | H43: 小計 | J43: =SUMIFS($M$13:$M$40,$L$13:$L$40,"10%") -> 0 | M43: 消費税
G44: 税率 8% | H44: 小計 | J44: =SUMIFS($M$13:$M$40,$L$13:$L$40,"8%") -> 0 | M44: 消費税
G45: 非課税 | H45: 小計 | J45: =SUMIFS($M$13:$M$40,$L$13:$L$40,"非課税") -> 0
G47: 請求金額（税込） | J47: =SUM($J$43,$O$43,$J$44,$O$44,$J$45) -> 0 | P47: 決裁
M50: =$M$1 -> ■■■■■■■■■■■■■■■
E51: 納品・請求書 | M51: =$M$2 -> 年 月 日
E52: 【レンタル用】 | H52: (サンエイ送付用) | M52: No. | N52: =$N$3 -> 10
A54: 株式会社 | D54: 御中 | G54: 請求者 | H54: 登録番号： | J54: =$J$5 -> 0
A55: =$A$6 -> - 営業所を選択してください。- | G55: 住 所 | H55: =$H$6 -> 0
A56: 担当者 | B56: =$B$7 -> 0
G57: 会社名 | H57: =$H$8 -> 0
G59: ＴＥＬ | H59: =$H$10 | L59: ＦＡＸ | N59: =$N$10
A61: 受注番号 | B61: 客先 | E61: 住所 | F61: 品名 | H61: 期間 | K61: 数量 | L61: 税率 | M61: 金額(税抜) | P61: 撤去 日 | Q61: 検
B62: 工事先名
A63: =$A$14 -> 0 | B63: =$B$14 -> 0 | E63: =$E$14 -> 0 | F63: =$F$14 -> 0 | H63: =$H$14 -> 0 | I63: =$I$14 -> 0 | J63: =$J$14 -> 0 | K63: =$K$14 -> 0 | L63: =$L$14 -> 0 | M63: =$M$14 -> 0 | P63: =$P$14 -> 0
A64: =$A$15 -> 0 | B64: =$B$15 -> 0 | H64: =$H$15 -> 0 | I64: =$I$15 -> 0 | J64: =$J$15 -> 0
A65: =$A$16 -> 0 | B65: =$B$16 -> 0 | E65: =$E$16 -> 0 | F65: =$F$16 -> 0 | H65: =$H$16 -> 0 | I65: =$I$16 -> 0 | J65: =$J$16 -> 0 | K65: =$K$16 -> 0 | L65: =$L$16 -> 0 | M65: =$M$16 -> 0 | P65: =$P$16 -> 0
A66: =$A$17 -> 0 | B66: =$B$17 -> 0 | H66: =$H$17 -> 0 | I66: =$I$17 -> 0 | J66: =$J$17 -> 0
A67: =$A$18 -> 0 | B67: =$B$18 -> 0 | E67: =$E$18 -> 0 | F67: =$F$18 -> 0 | H67: =$H$18 -> 0 | I67: =$I$18 -> 0 | J67: =$J$18 -> 0 | K67: =$K$18 -> 0 | L67: =$L$18 -> 0 | M67: =$M$18 -> 0 | P67: =$P$18 -> 0
A68: =$A$19 -> 0 | B68: =$B$19 -> 0 | H68: =$H$19 -> 0 | I68: =$I$19 -> 0 | J68: =$J$19 -> 0
A69: =$A$20 -> 0 | B69: =$B$20 -> 0 | E69: =$E$20 -> 0 | F69: =$F$20 -> 0 | H69: =$H$20 -> 0 | I69: =$I$20 -> 0 | J69: =$J$20 -> 0 | K69: =$K$20 -> 0 | L69: =$L$20 -> 0 | M69: =$M$20 -> 0 | P69: =$P$20 -> 0
A70: =$A$21 -> 0 | B70: =$B$21 -> 0 | H70: =$H$21 -> 0 | I70: =$I$21 -> 0 | J70: =$J$21 -> 0
A71: =$A$22 -> 0 | B71: =$B$22 -> 0 | E71: =$E$22 -> 0 | F71: =$F$22 -> 0 | H71: =$H$22 -> 0 | I71: =$I$22 -> 0 | J71: =$J$22 -> 0 | K71: =$K$22 -> 0 | L71: =$L$22 -> 0 | M71: =$M$22 -> 0 | P71: =$P$22 -> 0
A72: =$A$23 -> 0 | B72: =$B$23 -> 0 | H72: =$H$23 -> 0 | I72: =$I$23 -> 0 | J72: =$J$23 -> 0
A73: =$A$24 -> 0 | B73: =$B$24 -> 0 | E73: =$E$24 -> 0 | F73: =$F$24 -> 0 | H73: =$H$24 -> 0 | I73: =$I$24 -> 0 | J73: =$J$24 -> 0 | K73: =$K$24 -> 0 | L73: =$L$24 -> 0 | M73: =$M$24 -> 0 | P73: =$P$24 -> 0
A74: =$A$25 -> 0 | B74: =$B$25 -> 0 | H74: =$H$25 -> 0 | I74: =$I$25 -> 0 | J74: =$J$25 -> 0
A75: =$A$26 -> 0 | B75: =$B$26 -> 0 | E75: =$E$26 -> 0 | F75: =$F$26 -> 0 | H75: =$H$26 -> 0 | I75: =$I$26 -> 0 | J75: =$J$26 -> 0 | K75: =$K$26 -> 0 | L75: =$L$26 -> 0 | M75: =$M$26 -> 0 | P75: =$P$26 -> 0
A76: =$A$27 -> 0 | B76: =$B$27 -> 0 | H76: =$H$27 -> 0 | I76: =$I$27 -> 0 | J76: =$J$27 -> 0
A77: =$A$28 -> 0 | B77: =$B$28 -> 0 | E77: =$E$28 -> 0 | F77: =$F$28 -> 0 | H77: =$H$28 -> 0 | I77: =$I$28 -> 0 | J77: =$J$28 -> 0 | K77: =$K$28 -> 0 | L77: =$L$28 -> 0 | M77: =$M$28 -> 0 | P77: =$P$28 -> 0
A78: =$A$29 -> 0 | B78: =$B$29 -> 0 | H78: =$H$29 -> 0 | I78: =$I$29 -> 0 | J78: =$J$29 -> 0
...
